Back to the "Multiple platform build/check report"
| Package 25/208 | OS | Arch | BUILD | CHECK | BUILD BIN |
beadarray1.3.0Mark Dunning | Linux (SUSE 9.2) | x86_64 | OK | WARNINGS | |
| Linux (SUSE 10.1) | x86_64 | OK | WARNINGS | ||
| Linux (SUSE 9.2) | i686 | OK | WARNINGS | ||
| Solaris 2.9 | sparc | OK | ERROR | ||
| Windows Server 2003 | x86_64 | OK | WARNINGS | OK | |
| Windows Server 2003 | NA | OK | ERROR | OK | |
| Mac OS X (10.4.6) | i686 | [ OK ] | WARNINGS |
| Package: beadarray |
| Version: 1.3.0 |
| Command: /Library/Frameworks/R.framework/Resources/bin/R CMD build beadarray |
| RetCode: 0 |
| Time: 4.5 seconds |
| Status: OK |
| PackageFile: beadarray_1.3.0.tar.gz |
* checking for file 'beadarray/DESCRIPTION' ... OK * preparing 'beadarray': * checking DESCRIPTION meta-information ... OK * cleaning src * removing junk files * checking for LF line-endings in source files * checking for empty or unneeded directories * building 'beadarray_1.3.0.tar.gz'