Back to the "Multiple platform build/check report"
| Package 21/208 | OS | Arch | BUILD | CHECK | BUILD BIN |
aroma.light1.3.0Henrik Bengtsson | Linux (SUSE 9.2) | x86_64 | OK | WARNINGS | |
| Linux (SUSE 10.1) | x86_64 | OK | WARNINGS | ||
| Linux (SUSE 9.2) | i686 | OK | WARNINGS | ||
| Solaris 2.9 | sparc | OK | WARNINGS | ||
| Windows Server 2003 | x86_64 | OK | WARNINGS | OK | |
| Windows Server 2003 | NA | OK | ERROR | OK | |
| Mac OS X (10.4.6) | i686 | [ OK ] | WARNINGS |
| Package: aroma.light |
| Version: 1.3.0 |
| Command: /Library/Frameworks/R.framework/Resources/bin/R CMD build aroma.light |
| RetCode: 0 |
| Time: 1.5 seconds |
| Status: OK |
| PackageFile: aroma.light_1.3.0.tar.gz |
* checking for file 'aroma.light/DESCRIPTION' ... OK * preparing 'aroma.light': * checking DESCRIPTION meta-information ... OK * removing junk files * checking for LF line-endings in source files * checking for empty or unneeded directories * building 'aroma.light_1.3.0.tar.gz'