1.3.0Maurizio Pellegrino | Linux (SUSE 9.2)  | x86_64 |  OK  |  OK  |  | 
| Linux (SUSE 10.1)  | x86_64 |  OK  |  OK  |  | 
| Linux (SUSE 9.2)  | i686 |  OK  |  OK  |  | 
| Solaris 2.9  | sparc |  OK  |  OK  |  | 
| Windows Server 2003  | x86_64 |  OK  |  OK  |  OK  | 
| Windows Server 2003  | NA |  OK  |  ERROR  |  OK  | 
| Mac OS X (10.4.6)  | i686 | [ OK ] |  OK  |  | 
* checking for file 'Harshlight/DESCRIPTION' ... OK
* preparing 'Harshlight':
* checking DESCRIPTION meta-information ... OK
* cleaning src
* installing the package to re-build vignettes
* Installing *source* package 'Harshlight' ...
** libs
** arch - i386
gcc-4.0 -arch i386 -I/Library/Frameworks/R.framework/Resources/include -I/Library/Frameworks/R.framework/Resources/include/i386  -msse3  -D__NO_MATH_INLINES  -fPIC  -g -O2 -std=gnu99 -march=pentium-m -mtune=prescott -c Harshlight.c -o Harshlight.o
/var/tmp//cczd5ahC.s:5644:indirect jmp without `*'
/var/tmp//cczd5ahC.s:5659:indirect jmp without `*'
/var/tmp//cczd5ahC.s:5674:indirect jmp without `*'
/var/tmp//cczd5ahC.s:5693:indirect jmp without `*'
/var/tmp//cczd5ahC.s:5715:indirect jmp without `*'
/var/tmp//cczd5ahC.s:5730:indirect jmp without `*'
/var/tmp//cczd5ahC.s:5749:indirect jmp without `*'
/var/tmp//cczd5ahC.s:5768:indirect jmp without `*'
/var/tmp//cczd5ahC.s:5787:indirect jmp without `*'
/var/tmp//cczd5ahC.s:5802:indirect jmp without `*'
/var/tmp//cczd5ahC.s:5821:indirect jmp without `*'
/var/tmp//cczd5ahC.s:5840:indirect jmp without `*'
/var/tmp//cczd5ahC.s:5855:indirect jmp without `*'
/var/tmp//cczd5ahC.s:5874:indirect jmp without `*'
/var/tmp//cczd5ahC.s:5889:indirect jmp without `*'
/var/tmp//cczd5ahC.s:5911:indirect jmp without `*'
gcc-4.0 -arch i386 -dynamiclib -Wl,-macosx_version_min -Wl,10.3 -undefined dynamic_lookup -single_module -multiply_defined suppress -L/usr/local/lib -o Harshlight.so Harshlight.o   -F/Library/Frameworks/R.framework/.. -framework R
** arch - ppc
gcc-4.0 -arch ppc -std=gnu99 -I/Library/Frameworks/R.framework/Resources/include -I/Library/Frameworks/R.framework/Resources/include/ppc  -I/usr/local/include    -fPIC  -g -O2 -c Harshlight.c -o Harshlight.o
gcc-4.0 -arch ppc -std=gnu99 -dynamiclib -Wl,-macosx_version_min -Wl,10.3 -undefined dynamic_lookup -single_module -multiply_defined suppress -L/usr/local/lib -o Harshlight.so Harshlight.o   -F/Library/Frameworks/R.framework/.. -framework R
** R
** data
** inst
** preparing package for lazy loading
Loading required package: affy
Loading required package: Biobase
Loading required package: tools
Welcome to Bioconductor
    Vignettes contain introductory material. To view, type
    'openVignette()' or start with 'help(Biobase)'. For details
    on reading vignettes, see the openVignette help page.
Loading required package: affyio
** help
 >>> Building/Updating help pages for package 'Harshlight'
     Formats: text html latex example 
  HarshComp                         text    html    latex
  HarshExt                          text    html    latex
  Harshlight                        text    html    latex   example
  sim                               text    html    latex
** building package indices ...
* DONE (Harshlight)
* creating vignettes ... OK
* cleaning src
* removing junk files
* checking for LF line-endings in source files
* checking for empty or unneeded directories
* building 'Harshlight_1.3.0.tar.gz'