Back to the "Multiple platform build/check report"
| Package 40/208 | OS | Arch | BUILD | CHECK | BUILD BIN |
ChromoViz1.7.0Jihoon Kim | Linux (SUSE 9.2) | x86_64 | OK | WARNINGS | |
| Linux (SUSE 10.1) | x86_64 | OK | WARNINGS | ||
| Linux (SUSE 9.2) | i686 | OK | WARNINGS | ||
| Solaris 2.9 | sparc | OK | WARNINGS | ||
| Windows Server 2003 | x86_64 | OK | WARNINGS | OK | |
| Windows Server 2003 | NA | OK | ERROR | OK | |
| Mac OS X (10.4.6) | i686 | [ OK ] | WARNINGS |
| Package: ChromoViz |
| Version: 1.7.0 |
| Command: /Library/Frameworks/R.framework/Resources/bin/R CMD build ChromoViz |
| RetCode: 0 |
| Time: 1.5 seconds |
| Status: OK |
| PackageFile: ChromoViz_1.7.0.tar.gz |
* checking for file 'ChromoViz/DESCRIPTION' ... OK * preparing 'ChromoViz': * checking DESCRIPTION meta-information ... OK * removing junk files * excluding invalid files from 'ChromoViz' Subdirectory 'man' contains invalid file names: README * checking for LF line-endings in source files * checking for empty or unneeded directories * building 'ChromoViz_1.7.0.tar.gz'