Back to the "Multiple platform build/check report"
| Package 98/208 | OS | Arch | BUILD | CHECK | BUILD BIN |
KEGGSOAP1.9.2J. Zhang | Linux (SUSE 9.2) | x86_64 | OK | OK | |
| Linux (SUSE 10.1) | x86_64 | OK | OK | ||
| Linux (SUSE 9.2) | i686 | OK | OK | ||
| Solaris 2.9 | sparc | [ OK ] | OK | ||
| Windows Server 2003 | x86_64 | OK | ERROR | ERROR | |
| Windows Server 2003 | NA | OK | ERROR | ERROR | |
| Mac OS X (10.4.6) | i686 | OK | OK |
| Package: KEGGSOAP |
| Version: 1.9.2 |
| Command: /loc/biocbuild/2.0d/R/bin/R CMD build KEGGSOAP |
| RetCode: 0 |
| Time: 1.8 seconds |
| Status: OK |
| PackageFile: KEGGSOAP_1.9.2.tar.gz |
* checking for file 'KEGGSOAP/DESCRIPTION' ... OK * preparing 'KEGGSOAP': * checking DESCRIPTION meta-information ... OK * removing junk files * checking for LF line-endings in source files * checking for empty or unneeded directories * building 'KEGGSOAP_1.9.2.tar.gz'