Back to the "Multiple platform build/check report"
| Package 129/188 | OS | Arch | BUILD | CHECK | BUILD BIN |
pcaMethods1.2.0Wolfram Stacklies | Linux (SUSE 9.2) | x86_64 | OK | OK | |
| Linux (SUSE 9.2) | i686 | OK | [ OK ] | ||
| Solaris 2.9 | sparc | OK | OK | ||
| Linux (SUSE 10.0) | x86_64 | OK | OK | ||
| Windows Server 2003 | x86_64 | OK | OK | OK |
| Package: pcaMethods |
| Version: 1.2.0 |
| Command: /loc/biocbuild/1.9d/R/bin/R CMD check pcaMethods_1.2.0.tar.gz |
| RetCode: 0 |
| Time: 381.6 seconds |
| Status: OK |
| CheckDir: pcaMethods.Rcheck |
| Warnings: 0 |
* checking for working latex ... OK * using log directory '/extra/loc/biocbuild/1.9d/Rpacks/pcaMethods.Rcheck' * using R version 2.4.0 (2006-10-03) * checking for file 'pcaMethods/DESCRIPTION' ... OK * this is package 'pcaMethods' version '1.2.0' * checking package dependencies ... OK * checking if this is a source package ... OK * checking whether package 'pcaMethods' can be installed ... OK * checking package directory ... OK * checking for portable file names ... OK * checking for sufficient/correct file permissions ... OK * checking DESCRIPTION meta-information ... OK * checking top-level files ... OK * checking index information ... OK * checking package subdirectories ... OK * checking R files for syntax errors ... OK * checking R files for non-ASCII characters ... OK * checking whether the package can be loaded ... OK * checking whether the package can be loaded with stated dependencies ... OK * checking whether the name space can be loaded with stated dependencies ... OK * checking S3 generic/method consistency ... OK * checking replacement functions ... OK * checking foreign function calls ... OK * checking R code for possible problems ... OK * checking Rd files ... OK * checking Rd cross-references ... OK * checking for missing documentation entries ... OK * checking for code/documentation mismatches ... OK * checking Rd \usage sections ... OK * creating pcaMethods-Ex.R ... OK * checking examples ... OK * checking package vignettes in 'inst/doc' ... OK * creating pcaMethods-manual.tex ... OK * checking pcaMethods-manual.tex ... OK
pcaMethods.Rcheck/00install.out:
* Installing *source* package 'pcaMethods' ...
** R
** data
** inst
** preparing package for lazy loading
Loading required package: MASS
Loading required package: ellipse
Loading required package: pls
Attaching package: 'pls'
The following object(s) are masked from package:stats :
loadings
Creating a new generic function for "print" in "pcaMethods"
Creating a new generic function for "summary" in "pcaMethods"
Creating a new generic function for "screeplot" in "pcaMethods"
** help
>>> Building/Updating help pages for package 'pcaMethods'
Formats: text html latex example
Q2 text html latex example
bpca text html latex example
checkData text html latex
class.pcaRes text html latex
completeObs text html latex
kEstimate text html latex example
metaboliteData text html latex
metaboliteDataComplete text html latex
nipalsPca text html latex example
pca text html latex example
plotPcs text html latex example
ppca text html latex example
prep text html latex example
slplot text html latex example
svdImpute text html latex example
svdPca text html latex example
** building package indices ...
* DONE (pcaMethods)