Back to the "Multiple platform build/check report"
| Package 84/188 | OS | Arch | BUILD | CHECK | BUILD BIN |
hypergraph1.6.0Seth Falcon | Linux (SUSE 9.2) | x86_64 | OK | OK | |
| Linux (SUSE 9.2) | i686 | OK | [ OK ] | ||
| Solaris 2.9 | sparc | OK | OK | ||
| Linux (SUSE 10.0) | x86_64 | OK | OK | ||
| Windows Server 2003 | x86_64 | OK | OK | OK |
| Package: hypergraph |
| Version: 1.6.0 |
| Command: /loc/biocbuild/1.9d/R/bin/R CMD check hypergraph_1.6.0.tar.gz |
| RetCode: 0 |
| Time: 60.9 seconds |
| Status: OK |
| CheckDir: hypergraph.Rcheck |
| Warnings: 0 |
* checking for working latex ... OK * using log directory '/extra/loc/biocbuild/1.9d/Rpacks/hypergraph.Rcheck' * using R version 2.4.0 (2006-10-03) * checking for file 'hypergraph/DESCRIPTION' ... OK * this is package 'hypergraph' version '1.6.0' * checking package dependencies ... OK * checking if this is a source package ... OK * checking whether package 'hypergraph' can be installed ... OK * checking package directory ... OK * checking for portable file names ... OK * checking for sufficient/correct file permissions ... OK * checking DESCRIPTION meta-information ... OK * checking top-level files ... OK * checking index information ... OK * checking package subdirectories ... OK * checking R files for syntax errors ... OK * checking R files for non-ASCII characters ... OK * checking whether the package can be loaded ... OK * checking whether the package can be loaded with stated dependencies ... OK * checking whether the name space can be loaded with stated dependencies ... OK * checking S3 generic/method consistency ... OK * checking replacement functions ... OK * checking foreign function calls ... OK * checking R code for possible problems ... OK * checking Rd files ... OK * checking Rd cross-references ... OK * checking for missing documentation entries ... OK * checking for code/documentation mismatches ... OK * checking Rd \usage sections ... OK * creating hypergraph-Ex.R ... OK * checking examples ... OK * creating hypergraph-manual.tex ... OK * checking hypergraph-manual.tex ... OK
hypergraph.Rcheck/00install.out:
* Installing *source* package 'hypergraph' ...
** R
** inst
** save image
Loading required package: graph
** help
>>> Building/Updating help pages for package 'hypergraph'
Formats: text html latex example
DirectedHyperedge-class text html latex example
DirectedHyperedge text html latex
Hyperedge-class text html latex example
Hyperedge text html latex
Hypergraph-class text html latex example
Hypergraph text html latex
kCores text html latex example
l2hel text html latex example
vCover text html latex example
** building package indices ...
* DONE (hypergraph)