Back to the "Multiple platform build/check report"
| Package 26/188 | OS | Arch | BUILD | CHECK | BUILD BIN |
BeadExplorer1.2.0Gareth Elvidge | Linux (SUSE 9.2) | x86_64 | OK | OK | |
| Linux (SUSE 9.2) | i686 | [ OK ] | OK | ||
| Solaris 2.9 | sparc | OK | OK | ||
| Linux (SUSE 10.0) | x86_64 | OK | OK | ||
| Windows Server 2003 | x86_64 | OK | OK | OK |
| Package: BeadExplorer |
| Version: 1.2.0 |
| Command: /loc/biocbuild/1.9d/R/bin/R CMD build BeadExplorer |
| RetCode: 0 |
| Time: 1.8 seconds |
| Status: OK |
| PackageFile: BeadExplorer_1.2.0.tar.gz |
* checking for file 'BeadExplorer/DESCRIPTION' ... OK * preparing 'BeadExplorer': * checking DESCRIPTION meta-information ... OK * removing junk files * checking for LF line-endings in source files * checking for empty or unneeded directories * building 'BeadExplorer_1.2.0.tar.gz'