* checking for file 'splots/DESCRIPTION' ... OK
* preparing 'splots':
* checking DESCRIPTION meta-information ... OK
* installing the package to re-build vignettes
installing R.css in D:/biocbld/1.9d/tmpdir/Rinst406428225
---------- Making package splots ------------
  adding build stamp to DESCRIPTION
  installing NAMESPACE file and metadata
  installing R files
  save image
Loading required package: grid
  installing inst files
  installing data files
  installing man source files
  installing indices
  not zipping data
  installing help
 >>> Building/Updating help pages for package 'splots'
     Formats: text html latex example chm 
  internals                         text    html    latex           chm
  plotScreen                        text    html    latex   example chm
Microsoft HTML Help Compiler 4.74.8702
Compiling d:\biocbld\1.9d\Rpacks\splots\chm\splots.chm
Compile time: 0 minutes, 0 seconds
3	Topics
3	Local links
0	Internet links
1	Graphic
Created d:\biocbld\1.9d\Rpacks\splots\chm\splots.chm, 17,933 bytes
Compression increased file by 8,172 bytes.
  adding MD5 sums
* DONE (splots)
* creating vignettes ... OK
* removing junk files
* checking for LF line-endings in source files
* checking for empty or unneeded directories
* building 'splots_1.2.0.tar.gz'