Back to the "Multiple platform build/check report"
| Package 97/188 | OS | Arch | BUILD | CHECK | BUILD BIN |
maanova1.4.0Lei Wu | Linux (SUSE 9.2) | x86_64 | OK | OK | |
| Linux (SUSE 9.2) | i686 | OK | OK | ||
| Solaris 2.9 | sparc | OK | OK | ||
| Linux (SUSE 10.0) | x86_64 | OK | OK | ||
| Windows Server 2003 | x86_64 | OK | [ OK ] | OK |
| Package: maanova |
| Version: 1.4.0 |
| Command: D:\biocbld\1.9d\R\bin\R.exe CMD check maanova_1.4.0.tar.gz |
| RetCode: 0 |
| Time: 45.5 seconds |
| Status: OK |
| CheckDir: maanova.Rcheck |
| Warnings: 0 |
* checking for working latex ... OK * using log directory 'D:/biocbld/1.9d/Rpacks/maanova.Rcheck' * using R version 2.4.0 (2006-10-03) * checking for file 'maanova/DESCRIPTION' ... OK * this is package 'maanova' version '1.4.0' * checking package dependencies ... OK * checking if this is a source package ... OK * checking whether package 'maanova' can be installed ... OK * checking package directory ... OK * checking for portable file names ... OK * checking DESCRIPTION meta-information ... OK * checking top-level files ... OK * checking index information ... OK * checking package subdirectories ... OK * checking R files for syntax errors ... OK * checking R files for non-ASCII characters ... OK * checking whether the package can be loaded ... OK * checking whether the package can be loaded with stated dependencies ... OK * checking S3 generic/method consistency ... OK * checking replacement functions ... OK * checking foreign function calls ... OK * checking R code for possible problems ... OK * checking Rd files ... OK * checking Rd cross-references ... OK * checking for missing documentation entries ... OK * checking for code/documentation mismatches ... OK * checking Rd \usage sections ... OK * checking for CRLF line endings in C/C++/Fortran sources/headers ... OK * checking for portable use of $BLAS_LIBS ... OK * creating maanova-Ex.R ... OK * checking examples ... OK * checking package vignettes in 'inst/doc' ... OK * creating maanova-manual.tex ... OK * checking maanova-manual.tex ... OK
maanova.Rcheck/00install.out:
installing R.css in D:/biocbld/1.9d/Rpacks/maanova.Rcheck
---------- Making package maanova ------------
adding build stamp to DESCRIPTION
making DLL ...
making makeratio.d from makeratio.c
making shift.d from shift.c
making util.d from util.c
gcc -Id:/biocbld/1.9d/R/include -Wall -O2 -std=gnu99 -c makeratio.c -o makeratio.o
gcc -Id:/biocbld/1.9d/R/include -Wall -O2 -std=gnu99 -c shift.c -o shift.o
shift.c: In function `shift':
shift.c:27: warning: unused variable `k'
gcc -Id:/biocbld/1.9d/R/include -Wall -O2 -std=gnu99 -c util.c -o util.o
windres --include-dir d:/biocbld/1.9d/R/include -i maanova_res.rc -o maanova_res.o
gcc -shared -s -o maanova.dll maanova.def makeratio.o shift.o util.o maanova_res.o -Ld:/biocbld/1.9d/R/bin -lR
... DLL made
installing DLL
installing R files
installing demos
installing inst files
installing data files
installing man source files
installing indices
not zipping data
installing help
>>> Building/Updating help pages for package 'maanova'
Formats: text html latex example chm
Rmaanova.version text html latex example chm
abf1 text html latex example chm
adjPval text html latex example chm
arrayview text html latex example chm
consensus text html latex example chm
createData text html latex example chm
dyeswapfilter text html latex example chm
exprSet2Rawdata text html latex chm
fill.missing text html latex example chm
fitmaanova text html latex example chm
fom text html latex example chm
geneprofile text html latex example chm
gridcheck text html latex example chm
kidney text html latex example chm
maanova-internal text html latex example chm
macluster text html latex example chm
makeModel text html latex example chm
matest text html latex example chm
paigen text html latex example chm
read.madata text html latex example chm
resiplot text html latex example chm
riplot text html latex example chm
subset.madata text html latex example chm
transform.madata text html latex example chm
varplot text html latex example chm
volcano text html latex example chm
write.madata text html latex example chm
Microsoft HTML Help Compiler 4.74.8702
Compiling d:\biocbld\1.9d\Rpacks\maanova.Rcheck\00_pkg_src\maanova\chm\maanova.chm
Compile time: 0 minutes, 0 seconds
28 Topics
54 Local links
0 Internet links
1 Graphic
Created d:\biocbld\1.9d\Rpacks\maanova.Rcheck\00_pkg_src\maanova\chm\maanova.chm, 70,440 bytes
Compression decreased file by 61,002 bytes.
preparing package maanova for lazy loading
adding MD5 sums
* DONE (maanova)