| 1.12.0Biocore Team | Linux (SUSE 9.2) | x86_64 | OK | OK |  | 
| Linux (SUSE 9.2) | i686 | OK | OK |  | 
| Solaris 2.9 | sparc | OK | OK |  | 
| Linux (SUSE 10.0) | x86_64 | OK | OK |  | 
| Windows Server 2003 | x86_64 | OK | OK | [ OK ] | 
Using auto-selected zip options 'genefilter-ZIPDATA=zip genefilter-HELP=ziponly'
---------- Making package genefilter ------------
  adding build stamp to DESCRIPTION
  installing NAMESPACE file and metadata
  making DLL ...
making genedist.d from genedist.c
making init.d from init.c
making rowPAUCs.d from rowPAUCs.c
making rowttests.d from rowttests.c
making half_range_mode.d from half_range_mode.cpp
gcc   -ID:/biocbld/1.9d/R/include  -Wall -O2 -std=gnu99   -c genedist.c -o genedist.o
genedist.c: In function `mm_dist_binary':
genedist.c:233: warning: unused variable `w1'
genedist.c:233: warning: unused variable `w2'
gcc   -ID:/biocbld/1.9d/R/include  -Wall -O2 -std=gnu99   -c init.c -o init.o
gcc   -ID:/biocbld/1.9d/R/include  -Wall -O2 -std=gnu99   -c rowPAUCs.c -o rowPAUCs.o
gcc   -ID:/biocbld/1.9d/R/include  -Wall -O2 -std=gnu99   -c rowttests.c -o rowttests.o
g77 -O2 -Wall   -c ttest.f -o ttest.o
g++   -ID:/biocbld/1.9d/R/include  -Wall -O2   -c half_range_mode.cpp -o half_range_mode.o
half_range_mode.cpp: In function `double half_range_mode(double*, double*, double, int)':
half_range_mode.cpp:55: warning: comparison between signed and unsigned integer expressions
half_range_mode.cpp:68: warning: comparison between signed and unsigned integer expressions
half_range_mode.cpp:76: warning: comparison between signed and unsigned integer expressions
half_range_mode.cpp:14: warning: 'new_end' might be used uninitialized in this function
windres --include-dir D:/biocbld/1.9d/R/include  -i genefilter_res.rc -o genefilter_res.o
g++  -shared -s  -o genefilter.dll genefilter.def genedist.o init.o rowPAUCs.o rowttests.o ttest.o half_range_mode.o genefilter_res.o  -LD:/biocbld/1.9d/R/bin  -lg2c -lR
  ... DLL made
  installing DLL
  installing R files
  save image
Loading required package: Biobase
Loading required package: tools
Welcome to Bioconductor
    Vignettes contain introductory material. To view, type
    'openVignette()' or start with 'help(Biobase)'. For details
    on reading vignettes, see the openVignette help page.
Loading required package: survival
Loading required package: splines
  installing inst files
  installing data files
  preparing package genefilter for lazy data loading
  installing man source files
  installing indices
  installing help
 >>> Building/Updating help pages for package 'genefilter'
     Formats: text html latex example chm 
  Anova                             text    html    latex   example chm
  allNA                             text    html    latex   example chm
  coxfilter                         text    html    latex   example chm
  cv                                text    html    latex   example chm
  eSetFilter                        text    html    latex   example chm
  filterfun                         text    html    latex   example chm
  findLargest                       text    html    latex   example chm
  gapFilter                         text    html    latex   example chm
  genefilter                        text    html    latex   example chm
  genefinder                        text    html    latex   example chm
  genescale                         text    html    latex   example chm
  half.range.mode                   text    html    latex   example chm
  kOverA                            text    html    latex   example chm
  maxA                              text    html    latex   example chm
  pOverA                            text    html    latex   example chm
  rowFtests                         text    html    latex   example chm
  rowSds                            text    html    latex   example chm
  rowpAUCs                          text    html    latex   example chm
  shorth                            text    html    latex   example chm
  tdata                             text    html    latex   example chm
  ttest                             text    html    latex   example chm
  zipping help files
Microsoft HTML Help Compiler 4.74.8702
Compiling d:\biocbld\1.9d\Rpacks\R.INSTALL\genefilter\chm\genefilter.chm
Compile time: 0 minutes, 0 seconds
22	Topics
86	Local links
2	Internet links
1	Graphic
Created d:\biocbld\1.9d\Rpacks\R.INSTALL\genefilter\chm\genefilter.chm, 46,537 bytes
Compression decreased file by 34,188 bytes.
  adding MD5 sums
packaged installation of package 'genefilter' as genefilter_1.12.0.zip
* DONE (genefilter)