Back to the "Multiple platform build/check report"
| Package 98/188 | OS | Arch | BUILD | CHECK | BUILD BIN |
macat1.8.0Joern Toedling | Linux (SUSE 9.2) | x86_64 | OK | OK | |
| Linux (SUSE 9.2) | i686 | OK | OK | ||
| Solaris 2.9 | sparc | OK | OK | ||
| Linux (SUSE 10.0) | x86_64 | OK | [ OK ] | ||
| Windows Server 2003 | x86_64 | OK | OK | OK |
| Package: macat |
| Version: 1.8.0 |
| Command: /home/biocbuild/1.9d/R/bin/R CMD check macat_1.8.0.tar.gz |
| RetCode: 0 |
| Time: 114.0 seconds |
| Status: OK |
| CheckDir: macat.Rcheck |
| Warnings: 0 |
* checking for working latex ... OK * using log directory '/home/biocbuild/1.9d/Rpacks/macat.Rcheck' * using R version 2.4.0 (2006-10-03) * checking for file 'macat/DESCRIPTION' ... OK * this is package 'macat' version '1.8.0' * checking package dependencies ... OK * checking if this is a source package ... OK * checking whether package 'macat' can be installed ... OK * checking package directory ... OK * checking for portable file names ... OK * checking for sufficient/correct file permissions ... OK * checking DESCRIPTION meta-information ... OK * checking top-level files ... OK * checking index information ... OK * checking package subdirectories ... OK * checking R files for syntax errors ... OK * checking R files for non-ASCII characters ... OK * checking whether the package can be loaded ... OK * checking whether the package can be loaded with stated dependencies ... OK * checking S3 generic/method consistency ... OK * checking replacement functions ... OK * checking foreign function calls ... OK * checking R code for possible problems ... OK * checking Rd files ... OK * checking Rd cross-references ... OK * checking for missing documentation entries ... OK * checking for code/documentation mismatches ... OK * checking Rd \usage sections ... OK * creating macat-Ex.R ... OK * checking examples ... OK * checking package vignettes in 'inst/doc' ... OK * creating macat-manual.tex ... OK * checking macat-manual.tex ... OK
macat.Rcheck/00install.out:
* Installing *source* package 'macat' ...
** R
** data
** demo
** inst
** preparing package for lazy loading
Loading required package: Biobase
Loading required package: tools
Welcome to Bioconductor
Vignettes contain introductory material. To view, type
'openVignette()' or start with 'help(Biobase)'. For details
on reading vignettes, see the openVignette help page.
Loading required package: annotate
** help
>>> Building/Updating help pages for package 'macat'
Formats: text html latex example
buildMACAT text html latex example
compute.sliding text html latex example
discreteKernelize text html latex example
discretize text html latex
discretize.tscores text html latex example
discretizeAll text html latex example
evalScoring text html latex example
evaluateParameters text html latex example
get.results text html latex example
html text html latex
kernelize text html latex example
kernelizeAll text html latex example
kernelizeToPython text html latex example
kernels text html latex example
loaddatapkg text html latex example
macat-internal text html latex
plot.MACATevalScoring text html latex example
preprocessedLoader text html latex example
pythondata text html latex example
scoring text html latex example
stjd text html latex example
** building package indices ...
* DONE (macat)