Back to the "Multiple platform build/check report"
| Package 37/188 | OS | Arch | BUILD | CHECK | BUILD BIN |
cellHTS1.4.0Ligia Bras | Linux (SUSE 9.2) | x86_64 | OK | OK | |
| Linux (SUSE 9.2) | i686 | OK | OK | ||
| Solaris 2.9 | sparc | OK | OK | ||
| Linux (SUSE 10.0) | x86_64 | OK | [ OK ] | ||
| Windows Server 2003 | x86_64 | OK | OK | OK |
| Package: cellHTS |
| Version: 1.4.0 |
| Command: /home/biocbuild/1.9d/R/bin/R CMD check cellHTS_1.4.0.tar.gz |
| RetCode: 0 |
| Time: 74.0 seconds |
| Status: OK |
| CheckDir: cellHTS.Rcheck |
| Warnings: 0 |
* checking for working latex ... OK * using log directory '/home/biocbuild/1.9d/Rpacks/cellHTS.Rcheck' * using R version 2.4.0 (2006-10-03) * checking for file 'cellHTS/DESCRIPTION' ... OK * this is package 'cellHTS' version '1.4.0' * checking package dependencies ... OK * checking if this is a source package ... OK * checking whether package 'cellHTS' can be installed ... OK * checking package directory ... OK * checking for portable file names ... OK * checking for sufficient/correct file permissions ... OK * checking DESCRIPTION meta-information ... OK * checking top-level files ... OK * checking index information ... OK * checking package subdirectories ... OK * checking R files for syntax errors ... OK * checking R files for non-ASCII characters ... OK * checking whether the package can be loaded ... OK * checking whether the package can be loaded with stated dependencies ... OK * checking whether the name space can be loaded with stated dependencies ... OK * checking S3 generic/method consistency ... OK * checking replacement functions ... OK * checking foreign function calls ... OK * checking R code for possible problems ... OK * checking Rd files ... OK * checking Rd cross-references ... OK * checking for missing documentation entries ... OK * checking for code/documentation mismatches ... OK * checking Rd \usage sections ... OK * creating cellHTS-Ex.R ... OK * checking examples ... OK * checking package vignettes in 'inst/doc' ... OK * creating cellHTS-manual.tex ... OK * checking cellHTS-manual.tex ... OK
cellHTS.Rcheck/00install.out:
* Installing *source* package 'cellHTS' ...
** R
** data
** inst
** preparing package for lazy loading
Loading required package: prada
Loading required package: Biobase
Loading required package: tools
Welcome to Bioconductor
Vignettes contain introductory material. To view, type
'openVignette()' or start with 'help(Biobase)'. For details
on reading vignettes, see the openVignette help page.
Loading required package: RColorBrewer
Loading required package: grid
KernSmooth 2.22 installed
Copyright M. P. Wand 1997
Loading required package: genefilter
Loading required package: survival
Loading required package: splines
** help
>>> Building/Updating help pages for package 'cellHTS'
Formats: text html latex example
Bscore text html latex example
ROC text html latex example
annotate text html latex example
bdgpbiomart text html latex example
configure text html latex example
data-KcViab text html latex example
data-KcViabSmall text html latex example
getLibraryPlate text html latex example
getMatrix text html latex example
imageScreen text html latex example
normalizeChannels text html latex example
normalizePlates text html latex example
oneRowPerId text html latex example
plotPlateLibrary text html latex example
plotSpatialEffects text html latex example
print.cellHTS text html latex example
readPlateData text html latex example
screenMatch text html latex example
summarizeReplicates text html latex example
write.tabdel text html latex example
writeReport text html latex example
writeTab text html latex example
** building package indices ...
* DONE (cellHTS)