Back to the "Multiple platform build/check report"
| Package 154/188 | OS | Arch | BUILD | CHECK | BUILD BIN | 
| ROC1.8.0Vince Carey | Linux (SUSE 9.2) | x86_64 | OK | OK | |
| Linux (SUSE 9.2) | i686 | OK | OK | ||
| Solaris 2.9 | sparc | OK | OK | ||
| Linux (SUSE 10.0) | x86_64 | OK | [ OK ] | ||
| Windows Server 2003 | x86_64 | OK | OK | OK | 
| Package: ROC | 
| Version: 1.8.0 | 
| Command: /home/biocbuild/1.9d/R/bin/R CMD check ROC_1.8.0.tar.gz | 
| RetCode: 0 | 
| Time: 22.5 seconds | 
| Status: OK | 
| CheckDir: ROC.Rcheck | 
| Warnings: 0 | 
* checking for working latex ... OK * using log directory '/home/biocbuild/1.9d/Rpacks/ROC.Rcheck' * using R version 2.4.0 (2006-10-03) * checking for file 'ROC/DESCRIPTION' ... OK * this is package 'ROC' version '1.8.0' * checking package dependencies ... OK * checking if this is a source package ... OK * checking whether package 'ROC' can be installed ... OK * checking package directory ... OK * checking for portable file names ... OK * checking for sufficient/correct file permissions ... OK * checking DESCRIPTION meta-information ... OK * checking top-level files ... OK * checking index information ... OK * checking package subdirectories ... OK * checking R files for syntax errors ... OK * checking R files for non-ASCII characters ... OK * checking whether the package can be loaded ... OK * checking whether the package can be loaded with stated dependencies ... OK * checking whether the name space can be loaded with stated dependencies ... OK * checking S3 generic/method consistency ... OK * checking replacement functions ... OK * checking foreign function calls ... OK * checking R code for possible problems ... OK * checking Rd files ... OK * checking Rd cross-references ... OK * checking for missing documentation entries ... OK * checking for code/documentation mismatches ... OK * checking Rd \usage sections ... OK * checking for CRLF line endings in C/C++/Fortran sources/headers ... OK * checking for portable use of $BLAS_LIBS ... OK * creating ROC-Ex.R ... OK * checking examples ... OK * checking package vignettes in 'inst/doc' ... OK * creating ROC-manual.tex ... OK * checking ROC-manual.tex ... OK
ROC.Rcheck/00install.out:
* Installing *source* package 'ROC' ...
** libs
g++ -I/home/biocbuild/1.9d/R/include -I/home/biocbuild/1.9d/R/include  -I/usr/local/include    -fpic  -g -O2 -Wall -c ROC.cc -o ROC.o
g++ -shared -L/usr/local/lib64 -o ROC.so ROC.o   
** R
** inst
** save image
** help
 >>> Building/Updating help pages for package 'ROC'
     Formats: text html latex example 
  AUC                               text    html    latex   example
  plot-methods                      text    html    latex   example
  rocc-class                        text    html    latex   example
  rocdemo.sca                       text    html    latex   example
  trapezint                         text    html    latex   example
** building package indices ...
* DONE (ROC)