Back to the "Multiple platform build/check report"
| Package 177/188 | OS | Arch | BUILD | CHECK | BUILD BIN | 
| stepNorm1.6.0Yuanyuan Xiao | Linux (SUSE 9.2) | x86_64 | OK | OK | |
| Linux (SUSE 9.2) | i686 | OK | OK | ||
| Solaris 2.9 | sparc | [ OK ] | OK | ||
| Linux (SUSE 10.0) | x86_64 | OK | OK | ||
| Windows Server 2003 | x86_64 | OK | OK | OK | 
| Package: stepNorm | 
| Version: 1.6.0 | 
| Command: /loc/biocbuild/1.9d/R/bin/R CMD build stepNorm | 
| RetCode: 0 | 
| Time: 2.9 seconds | 
| Status: OK | 
| PackageFile: stepNorm_1.6.0.tar.gz | 
* checking for file 'stepNorm/DESCRIPTION' ... OK * preparing 'stepNorm': * checking DESCRIPTION meta-information ... OK * removing junk files * checking for LF line-endings in source files * checking for empty or unneeded directories * building 'stepNorm_1.6.0.tar.gz'