Back to the "Multiple platform build/check report"
| Package 185/188 | Hostname | OS | Arch | BUILD | CHECK | BUILD BIN |
webbioc1.6.0Colin A. SmithLast Changed Date: 2006-10-03 12:16:03 -0700 Last Changed Rev: 20373 | lamb1 | Linux (SUSE 10.1) | x86_64 | OK | OK | |
| wellington | Linux (SUSE 9.2) | i686 | OK | OK | ||
| churchill | Solaris 2.9 | sparc | OK | OK | ||
| lemming | Windows Server 2003 | x86_64 | OK | OK | [ OK ] |
| Package: webbioc |
| Version: 1.6.0 |
| Command: D:\biocbld\bbs-1.9\R\bin\R.exe CMD INSTALL --build --library=webbioc.instdir webbioc_1.6.0.tar.gz |
| RetCode: 0 |
| Time: 10.0 seconds |
| Status: OK |
| PackageFile: webbioc_1.6.0.zip |
installing R.css in D:/biocbld/bbs-1.9/meat/webbioc.instdir
Using auto-selected zip options ''
---------- Making package webbioc ------------
adding build stamp to DESCRIPTION
installing R files
save image
Loading required package: Biobase
Loading required package: tools
Welcome to Bioconductor
Vignettes contain introductory material. To view, type
'openVignette()' or start with 'help(Biobase)'. For details
on reading vignettes, see the openVignette help page.
Loading required package: affy
Loading required package: affyio
Loading required package: multtest
Loading required package: survival
Loading required package: splines
Loading required package: annaffy
Loading required package: GO
Loading required package: KEGG
Loading required package: vsn
Loading required package: gcrma
Loading required package: matchprobes
Loading required package: qvalue
installing inst files
installing man source files
installing indices
installing help
>>> Building/Updating help pages for package 'webbioc'
Formats: text html latex example chm
installReps text html latex chm
mt.wrapper text html latex chm
Microsoft HTML Help Compiler 4.74.8702
Compiling d:\biocbld\bbs-1.9\meat\R.INSTALL\webbioc\chm\webbioc.chm
Compile time: 0 minutes, 0 seconds
3 Topics
4 Local links
0 Internet links
1 Graphic
Created d:\biocbld\bbs-1.9\meat\R.INSTALL\webbioc\chm\webbioc.chm, 20,042 bytes
Compression increased file by 6,797 bytes.
adding MD5 sums
packaged installation of package 'webbioc' as webbioc_1.6.0.zip
* DONE (webbioc)