Back to the "Multiple platform build/check report"
| Package 180/188 | Hostname | OS | Arch | BUILD | CHECK | BUILD BIN | 
| tkWidgets1.12.2J. ZhangLast Changed Date: 2007-02-14 06:52:14 -0800 Last Changed Rev: 22630 | lamb1 | Linux (SUSE 10.1) | x86_64 | OK | OK | |
| wellington | Linux (SUSE 9.2) | i686 | OK | OK | ||
| churchill | Solaris 2.9 | sparc | OK | OK | ||
| lemming | Windows Server 2003 | x86_64 | [ OK ] | OK | OK | 
| Package: tkWidgets | 
| Version: 1.12.2 | 
| Command: D:\biocbld\bbs-1.9\R\bin\R.exe CMD build tkWidgets | 
| RetCode: 0 | 
| Time: 36.4 seconds | 
| Status: OK | 
| PackageFile: tkWidgets_1.12.2.tar.gz | 
* checking for file 'tkWidgets/DESCRIPTION' ... OK
* preparing 'tkWidgets':
* checking DESCRIPTION meta-information ... OK
* checking whether 'INDEX' is up-to-date ... NO
* use '--force' to overwrite the existing 'INDEX'
* installing the package to re-build vignettes
installing R.css in D:/biocbld/bbs-1.9/tmpdir/Rinst549240188
---------- Making package tkWidgets ------------
  adding build stamp to DESCRIPTION
  installing NAMESPACE file and metadata
  installing R files
  installing inst files
  installing man source files
  installing indices
  installing help
 >>> Building/Updating help pages for package 'tkWidgets'
     Formats: text html latex example chm 
  DPExplorer                        text    html    latex   example chm
  WName                             text    html    latex   example chm
  appendSepDir                      text    html    latex   example chm
  args2XML                          text    html    latex   example chm
  argsWidget                        text    html    latex   example chm
  colInfo-class                     text    html    latex   example chm
  dataViewer                        text    html    latex   example chm
  dbArgsWidget                      text    html    latex   example chm
  eExplorer                         text    html    latex   example chm
  fileBrowser                       text    html    latex   example chm
  fileWizard                        text    html    latex   example chm
  getLightTW                        text    html    latex   example chm
  getWvalues                        text    html    latex   example chm
  guess.sep                         text    html    latex   example chm
  hasChar                           text    html    latex   example chm
  importPhenoData                   text    html    latex   example chm
  importWizard                      text    html    latex   example chm
  listSelect                        text    html    latex   example chm
  objNameToList                     text    html    latex   example chm
  objViewer                         text    html    latex   example chm
  objectBrowser                     text    html    latex   example chm
  pExplorer                         text    html    latex   example chm
  pickFiles                         text    html    latex   example chm
  pickItems                         text    html    latex   example chm
  pickObjs                          text    html    latex   example chm
  setArgsList                       text    html    latex   example chm
  stdType                           text    html    latex   example chm
  tkMIAME                           text    html    latex           chm
  tkSampleNames                     text    html    latex           chm
  tkphenoData                       text    html    latex           chm
  vExplorer                         text    html    latex   example chm
  values.Widget                     text    html    latex   example chm
  widgetRender                      text    html    latex   example chm
Microsoft HTML Help Compiler 4.74.8702
Compiling d:\biocbld\bbs-1.9\meat\tkWidgets\chm\tkWidgets.chm
Compile time: 0 minutes, 0 seconds
34	Topics
323	Local links
4	Internet links
1	Graphic
Created d:\biocbld\bbs-1.9\meat\tkWidgets\chm\tkWidgets.chm, 72,654 bytes
Compression decreased file by 104,897 bytes.
  preparing package tkWidgets for lazy loading
Loading required package: widgetTools
Loading required package: DynDoc
Loading required package: tools
  adding MD5 sums
* DONE (tkWidgets)
* creating vignettes ... OK
* removing junk files
* checking for LF line-endings in source files
* checking for empty or unneeded directories
* building 'tkWidgets_1.12.2.tar.gz'