Back to the "Multiple platform build/check report"
| Package 170/188 | Hostname | OS | Arch | BUILD | CHECK | BUILD BIN | 
| spikeLI1.2.0Enrico CarlonLast Changed Date: 2006-10-03 12:16:03 -0700 Last Changed Rev: 20373 | lamb1 | Linux (SUSE 10.1) | x86_64 | OK | OK | |
| wellington | Linux (SUSE 9.2) | i686 | OK | OK | ||
| churchill | Solaris 2.9 | sparc | OK | OK | ||
| lemming | Windows Server 2003 | x86_64 | OK | OK | [ OK ] | 
| Package: spikeLI | 
| Version: 1.2.0 | 
| Command: D:\biocbld\bbs-1.9\R\bin\R.exe CMD INSTALL --build --library=spikeLI.instdir spikeLI_1.2.0.tar.gz | 
| RetCode: 0 | 
| Time: 8.0 seconds | 
| Status: OK | 
| PackageFile: spikeLI_1.2.0.zip | 
installing R.css in D:/biocbld/bbs-1.9/meat/spikeLI.instdir
Using auto-selected zip options 'spikeLI-ZIPDATA=zip'
---------- Making package spikeLI ------------
  adding build stamp to DESCRIPTION
  installing R files
  installing demos
  installing inst files
  installing data files
  installing man source files
  installing indices
  zipping data
  installing help
 >>> Building/Updating help pages for package 'spikeLI'
     Formats: text html latex example chm 
  IvsDG                             text    html    latex   example chm
  Ivsc                              text    html    latex   example chm
  SPIKE_IN                          text    html    latex   example chm
  SPIKE_IN95                        text    html    latex   example chm
  SPIKE_INA                         text    html    latex   example chm
  SPIKE_INB                         text    html    latex   example chm
  SPIKE_INH                         text    html    latex   example chm
  collapse                          text    html    latex   example chm
  conc133                           text    html    latex   example chm
  conc95                            text    html    latex   example chm
  hgu                               text    html    latex   example chm
  spikeLI.package                   text    html    latex           chm
Microsoft HTML Help Compiler 4.74.8702
Compiling d:\biocbld\bbs-1.9\meat\R.INSTALL\spikeLI\chm\spikeLI.chm
Compile time: 0 minutes, 0 seconds
13	Topics
113	Local links
0	Internet links
1	Graphic
Created d:\biocbld\bbs-1.9\meat\R.INSTALL\spikeLI\chm\spikeLI.chm, 26,506 bytes
Compression decreased file by 10,544 bytes.
  adding MD5 sums
packaged installation of package 'spikeLI' as spikeLI_1.2.0.zip
* DONE (spikeLI)