Back to the "Multiple platform build/check report"
| Package 168/188 | Hostname | OS | Arch | BUILD | CHECK | BUILD BIN | 
| sizepower1.4.0Weiliang QiuLast Changed Date: 2006-10-03 12:16:03 -0700 Last Changed Rev: 20373 | lamb1 | Linux (SUSE 10.1) | x86_64 | OK | OK | |
| wellington | Linux (SUSE 9.2) | i686 | OK | OK | ||
| churchill | Solaris 2.9 | sparc | OK | OK | ||
| lemming | Windows Server 2003 | x86_64 | OK | OK | [ OK ] | 
| Package: sizepower | 
| Version: 1.4.0 | 
| Command: D:\biocbld\bbs-1.9\R\bin\R.exe CMD INSTALL --build --library=sizepower.instdir sizepower_1.4.0.tar.gz | 
| RetCode: 0 | 
| Time: 7.0 seconds | 
| Status: OK | 
| PackageFile: sizepower_1.4.0.zip | 
installing R.css in D:/biocbld/bbs-1.9/meat/sizepower.instdir
Using auto-selected zip options ''
---------- Making package sizepower ------------
  adding build stamp to DESCRIPTION
  installing NAMESPACE file and metadata
  installing R files
  installing inst files
  installing man source files
  installing indices
  installing help
 >>> Building/Updating help pages for package 'sizepower'
     Formats: text html latex example chm 
  powerMatched                      text    html    latex   example chm
  powerMulti                        text    html    latex   example chm
  powerRandomized                   text    html    latex   example chm
  sampleSizeMatched                 text    html    latex   example chm
  sampleSizeRandomized              text    html    latex   example chm
Microsoft HTML Help Compiler 4.74.8702
Compiling d:\biocbld\bbs-1.9\meat\R.INSTALL\sizepower\chm\sizepower.chm
Compile time: 0 minutes, 0 seconds
6	Topics
30	Local links
5	Internet links
1	Graphic
Created d:\biocbld\bbs-1.9\meat\R.INSTALL\sizepower\chm\sizepower.chm, 21,538 bytes
Compression decreased file by 5,003 bytes.
  adding MD5 sums
packaged installation of package 'sizepower' as sizepower_1.4.0.zip
* DONE (sizepower)