Back to the "Multiple platform build/check report"
| Package 158/188 | Hostname | OS | Arch | BUILD | CHECK | BUILD BIN | 
| safe1.6.0William T. BarryLast Changed Date: 2006-10-03 12:16:03 -0700 Last Changed Rev: 20373 | lamb1 | Linux (SUSE 10.1) | x86_64 | OK | OK | |
| wellington | Linux (SUSE 9.2) | i686 | OK | OK | ||
| churchill | Solaris 2.9 | sparc | OK | OK | ||
| lemming | Windows Server 2003 | x86_64 | [ OK ] | OK | OK | 
| Package: safe | 
| Version: 1.6.0 | 
| Command: D:\biocbld\bbs-1.9\R\bin\R.exe CMD build safe | 
| RetCode: 0 | 
| Time: 134.7 seconds | 
| Status: OK | 
| PackageFile: safe_1.6.0.tar.gz | 
* checking for file 'safe/DESCRIPTION' ... OK
* preparing 'safe':
* checking DESCRIPTION meta-information ... OK
* installing the package to re-build vignettes
installing R.css in D:/biocbld/bbs-1.9/tmpdir/Rinst493671194
---------- Making package safe ------------
  adding build stamp to DESCRIPTION
  installing R files
  installing inst files
  installing man source files
  installing indices
  installing help
 >>> Building/Updating help pages for package 'safe'
     Formats: text html latex example chm 
  SAFE-class                        text    html    latex           chm
  getCmatrix                        text    html    latex   example chm
  getPImatrix                       text    html    latex   example chm
  safe-internal                     text    html    latex           chm
  safe                              text    html    latex   example chm
  safeplot                          text    html    latex   example chm
Microsoft HTML Help Compiler 4.74.8702
Compiling d:\biocbld\bbs-1.9\meat\safe\chm\safe.chm
Compile time: 0 minutes, 0 seconds
7	Topics
26	Local links
0	Internet links
1	Graphic
Created d:\biocbld\bbs-1.9\meat\safe\chm\safe.chm, 27,731 bytes
Compression decreased file by 4,214 bytes.
  adding MD5 sums
* DONE (safe)
* creating vignettes ... OK
* removing junk files
* checking for LF line-endings in source files
* checking for empty or unneeded directories
* building 'safe_1.6.0.tar.gz'