Back to the "Multiple platform build/check report"
| Package 137/188 | Hostname | OS | Arch | BUILD | CHECK | BUILD BIN | 
| ppiStats1.0.0Tony ChiangLast Changed Date: 2006-10-03 12:16:03 -0700 Last Changed Rev: 20373 | lamb1 | Linux (SUSE 10.1) | x86_64 | OK | OK | |
| wellington | Linux (SUSE 9.2) | i686 | OK | OK | ||
| churchill | Solaris 2.9 | sparc | OK | OK | ||
| lemming | Windows Server 2003 | x86_64 | [ OK ] | OK | OK | 
| Package: ppiStats | 
| Version: 1.0.0 | 
| Command: D:\biocbld\bbs-1.9\R\bin\R.exe CMD build ppiStats | 
| RetCode: 0 | 
| Time: 17.5 seconds | 
| Status: OK | 
| PackageFile: ppiStats_1.0.0.tar.gz | 
* checking for file 'ppiStats/DESCRIPTION' ... OK
* preparing 'ppiStats':
* checking DESCRIPTION meta-information ... OK
* installing the package to re-build vignettes
installing R.css in D:/biocbld/bbs-1.9/tmpdir/Rinst601280908
---------- Making package ppiStats ------------
  adding build stamp to DESCRIPTION
  installing R files
  installing inst files
  installing man source files
  installing indices
  installing help
 >>> Building/Updating help pages for package 'ppiStats'
     Formats: text html latex example chm 
  assessSymmetry                    text    html    latex   example chm
  bpMatrix                          text    html    latex   example chm
  calcInOutDegStats                 text    html    latex   example chm
  estErrProbMethodOfMoments         text    html    latex   example chm
  genBPGraph                        text    html    latex   example chm
  idProteinErrorType                text    html    latex   example chm
  idProteinType                     text    html    latex   example chm
  nullDistDoublyTestedEdges         text    html    latex   example chm
Microsoft HTML Help Compiler 4.74.8702
Compiling d:\biocbld\bbs-1.9\meat\ppiStats\chm\ppiStats.chm
Compile time: 0 minutes, 0 seconds
9	Topics
18	Local links
2	Internet links
1	Graphic
Created d:\biocbld\bbs-1.9\meat\ppiStats\chm\ppiStats.chm, 28,419 bytes
Compression decreased file by 4,644 bytes.
  adding MD5 sums
* DONE (ppiStats)
* creating vignettes ... OK
* removing junk files
* checking for LF line-endings in source files
* checking for empty or unneeded directories
* building 'ppiStats_1.0.0.tar.gz'