Back to the "Multiple platform build/check report"
| Package 134/188 | Hostname | OS | Arch | BUILD | CHECK | BUILD BIN | 
| pkgDepTools1.0.1Seth FalconLast Changed Date: 2006-11-12 09:19:55 -0800 Last Changed Rev: 21089 | lamb1 | Linux (SUSE 10.1) | x86_64 | OK | OK | |
| wellington | Linux (SUSE 9.2) | i686 | OK | OK | ||
| churchill | Solaris 2.9 | sparc | OK | OK | ||
| lemming | Windows Server 2003 | x86_64 | [ OK ] | OK | OK | 
| Package: pkgDepTools | 
| Version: 1.0.1 | 
| Command: D:\biocbld\bbs-1.9\R\bin\R.exe CMD build pkgDepTools | 
| RetCode: 0 | 
| Time: 48.5 seconds | 
| Status: OK | 
| PackageFile: pkgDepTools_1.0.1.tar.gz | 
* checking for file 'pkgDepTools/DESCRIPTION' ... OK
* preparing 'pkgDepTools':
* checking DESCRIPTION meta-information ... OK
* installing the package to re-build vignettes
installing R.css in D:/biocbld/bbs-1.9/tmpdir/Rinst463603991
---------- Making package pkgDepTools ------------
  adding build stamp to DESCRIPTION
  installing NAMESPACE file and metadata
  installing R files
  installing inst files
  installing man source files
  installing indices
  installing help
 >>> Building/Updating help pages for package 'pkgDepTools'
     Formats: text html latex example chm 
  basicInstallOrder                 text    html    latex           chm
  cleanPkgField                     text    html    latex           chm
  getDownloadSize                   text    html    latex           chm
  getInstallOrder                   text    html    latex           chm
  makeDepGraph                      text    html    latex   example chm
  makePkgUrl                        text    html    latex           chm
  parseContentLength                text    html    latex           chm
  pkgDepTools-package               text    html    latex           chm
Microsoft HTML Help Compiler 4.74.8702
Compiling d:\biocbld\bbs-1.9\meat\pkgDepTools\chm\pkgDepTools.chm
Compile time: 0 minutes, 0 seconds
9	Topics
17	Local links
0	Internet links
1	Graphic
Created d:\biocbld\bbs-1.9\meat\pkgDepTools\chm\pkgDepTools.chm, 21,898 bytes
Compression decreased file by 122 bytes.
  preparing package pkgDepTools for lazy loading
Loading required package: graph
Loading required package: Biobase
Loading required package: tools
Welcome to Bioconductor
    Vignettes contain introductory material. To view, type
    'openVignette()' or start with 'help(Biobase)'. For details
    on reading vignettes, see the openVignette help page.
Loading required package: RBGL
  adding MD5 sums
* DONE (pkgDepTools)
* creating vignettes ... OK
* removing junk files
* checking for LF line-endings in source files
* checking for empty or unneeded directories
* building 'pkgDepTools_1.0.1.tar.gz'