Back to the "Multiple platform build/check report"
| Package 119/188 | Hostname | OS | Arch | BUILD | CHECK | BUILD BIN | 
| nudge1.4.0N. DeanLast Changed Date: 2006-10-03 12:16:03 -0700 Last Changed Rev: 20373 | lamb1 | Linux (SUSE 10.1) | x86_64 | OK | OK | |
| wellington | Linux (SUSE 9.2) | i686 | OK | OK | ||
| churchill | Solaris 2.9 | sparc | OK | OK | ||
| lemming | Windows Server 2003 | x86_64 | OK | OK | [ OK ] | 
| Package: nudge | 
| Version: 1.4.0 | 
| Command: D:\biocbld\bbs-1.9\R\bin\R.exe CMD INSTALL --build --library=nudge.instdir nudge_1.4.0.tar.gz | 
| RetCode: 0 | 
| Time: 8.0 seconds | 
| Status: OK | 
| PackageFile: nudge_1.4.0.zip | 
installing R.css in D:/biocbld/bbs-1.9/meat/nudge.instdir
Using auto-selected zip options 'nudge-ZIPDATA=zip'
---------- Making package nudge ------------
  adding build stamp to DESCRIPTION
  installing R files
  installing inst files
  installing data files
  installing man source files
  installing indices
  zipping data
  installing help
 >>> Building/Updating help pages for package 'nudge'
     Formats: text html latex example chm 
  hiv                               text    html    latex           chm
  like                              text    html    latex           chm
  neg.contr                         text    html    latex           chm
  norm1a                            text    html    latex   example chm
  norm1b                            text    html    latex   example chm
  norm1c                            text    html    latex   example chm
  norm1d                            text    html    latex   example chm
  norm2c                            text    html    latex   example chm
  norm2d                            text    html    latex   example chm
  nudge1                            text    html    latex   example chm
  nudge2                            text    html    latex   example chm
  pos.contr                         text    html    latex           chm
Microsoft HTML Help Compiler 4.74.8702
Compiling d:\biocbld\bbs-1.9\meat\R.INSTALL\nudge\chm\nudge.chm
Compile time: 0 minutes, 0 seconds
13	Topics
74	Local links
12	Internet links
1	Graphic
Created d:\biocbld\bbs-1.9\meat\R.INSTALL\nudge\chm\nudge.chm, 32,162 bytes
Compression decreased file by 23,546 bytes.
  adding MD5 sums
packaged installation of package 'nudge' as nudge_1.4.0.zip
* DONE (nudge)