Back to the "Multiple platform build/check report"
| Package 118/188 | Hostname | OS | Arch | BUILD | CHECK | BUILD BIN |
nnNorm1.10.0Tarca LaurentiuLast Changed Date: 2006-10-03 12:16:03 -0700 Last Changed Rev: 20373 | lamb1 | Linux (SUSE 10.1) | x86_64 | OK | OK | |
| wellington | Linux (SUSE 9.2) | i686 | OK | OK | ||
| churchill | Solaris 2.9 | sparc | OK | OK | ||
| lemming | Windows Server 2003 | x86_64 | [ OK ] | OK | OK |
| Package: nnNorm |
| Version: 1.10.0 |
| Command: D:\biocbld\bbs-1.9\R\bin\R.exe CMD build nnNorm |
| RetCode: 0 |
| Time: 137.3 seconds |
| Status: OK |
| PackageFile: nnNorm_1.10.0.tar.gz |
* checking for file 'nnNorm/DESCRIPTION' ... OK
* preparing 'nnNorm':
* checking DESCRIPTION meta-information ... OK
* checking whether 'INDEX' is up-to-date ... NO
* use '--force' to overwrite the existing 'INDEX'
* installing the package to re-build vignettes
installing R.css in D:/biocbld/bbs-1.9/tmpdir/Rinst218427093
---------- Making package nnNorm ------------
adding build stamp to DESCRIPTION
installing R files
installing inst files
installing man source files
installing indices
installing help
>>> Building/Updating help pages for package 'nnNorm'
Formats: text html latex example chm
compNorm text html latex example chm
maNormNN text html latex example chm
nnNorm-internal text html latex chm
Microsoft HTML Help Compiler 4.74.8702
Compiling d:\biocbld\bbs-1.9\meat\nnNorm\chm\nnNorm.chm
Compile time: 0 minutes, 0 seconds
4 Topics
7 Local links
0 Internet links
1 Graphic
Created d:\biocbld\bbs-1.9\meat\nnNorm\chm\nnNorm.chm, 20,241 bytes
Compression increased file by 5,288 bytes.
adding MD5 sums
* DONE (nnNorm)
* creating vignettes ... OK
* removing junk files
* checking for LF line-endings in source files
* checking for empty or unneeded directories
* building 'nnNorm_1.10.0.tar.gz'