Back to the "Multiple platform build/check report"
| Package 106/188 | Hostname | OS | Arch | BUILD | CHECK | BUILD BIN |
maSigPro1.6.0Ana ConesaLast Changed Date: 2006-12-14 19:00:39 -0800 Last Changed Rev: 21493 | lamb1 | Linux (SUSE 10.1) | x86_64 | OK | OK | |
| wellington | Linux (SUSE 9.2) | i686 | OK | OK | ||
| churchill | Solaris 2.9 | sparc | OK | OK | ||
| lemming | Windows Server 2003 | x86_64 | [ OK ] | OK | OK |
| Package: maSigPro |
| Version: 1.6.0 |
| Command: D:\biocbld\bbs-1.9\R\bin\R.exe CMD build maSigPro |
| RetCode: 0 |
| Time: 16.5 seconds |
| Status: OK |
| PackageFile: maSigPro_1.6.0.tar.gz |
* checking for file 'maSigPro/DESCRIPTION' ... OK
* preparing 'maSigPro':
* checking DESCRIPTION meta-information ... OK
* installing the package to re-build vignettes
installing R.css in D:/biocbld/bbs-1.9/tmpdir/Rinst614067208
---------- Making package maSigPro ------------
adding build stamp to DESCRIPTION
installing R files
save image
Loading required package: Biobase
Loading required package: tools
Welcome to Bioconductor
Vignettes contain introductory material. To view, type
'openVignette()' or start with 'help(Biobase)'. For details
on reading vignettes, see the openVignette help page.
installing inst files
installing data files
installing man source files
installing indices
not zipping data
installing help
>>> Building/Updating help pages for package 'maSigPro'
Formats: text html latex example chm
PlotGroups text html latex example
PlotProfiles text html latex example
T.fit text html latex example
average.rows text html latex example
data.abiotic text html latex example
edesign.OD text html latex example
edesign.abiotic text html latex example
edesignCT text html latex example
edesignDR text html latex example
get.siggenes text html latex example
i.rank text html latex example
maSigPro text html latex example
make.design.matrix text html latex example
p.vector text html latex example
position text html latex example
reg.coeffs text html latex example
see.genes text html latex example
stepback text html latex example
stepfor text html latex example
suma2Venn text html latex example
two.ways.stepback text html latex example
two.ways.stepfor text html latex example
adding MD5 sums
* DONE (maSigPro)
* creating vignettes ... OK
* removing junk files
* excluding invalid files from 'maSigPro'
Subdirectory 'man' contains invalid file names:
README
* checking for LF line-endings in source files
* checking for empty or unneeded directories
* building 'maSigPro_1.6.0.tar.gz'