Back to the "Multiple platform build/check report"
| Package 95/188 | Hostname | OS | Arch | BUILD | CHECK | BUILD BIN |
logicFS1.4.0Holger SchwenderLast Changed Date: 2006-10-03 12:16:03 -0700 Last Changed Rev: 20373 | lamb1 | Linux (SUSE 10.1) | x86_64 | OK | OK | |
| wellington | Linux (SUSE 9.2) | i686 | OK | OK | ||
| churchill | Solaris 2.9 | sparc | [ OK ] | OK | ||
| lemming | Windows Server 2003 | x86_64 | OK | OK | OK |
| Package: logicFS |
| Version: 1.4.0 |
| Command: /loc/biocbuild/bbs-1.9/R/bin/R CMD build logicFS |
| RetCode: 0 |
| Time: 48.4 seconds |
| Status: OK |
| PackageFile: logicFS_1.4.0.tar.gz |
* checking for file 'logicFS/DESCRIPTION' ... OK
* preparing 'logicFS':
* checking DESCRIPTION meta-information ... OK
* checking whether 'INDEX' is up-to-date ... NO
* use '--force' to overwrite the existing 'INDEX'
* installing the package to re-build vignettes
* Installing *source* package 'logicFS' ...
** R
** data
** inst
** help
>>> Building/Updating help pages for package 'logicFS'
Formats: text html latex example
data.logicfs text html latex
logic.bagging text html latex example
logic.fs text html latex example
logic.vim text html latex
logicFS-internal text html latex
make.snp.dummy text html latex
minDNF text html latex
plot.logicFS text html latex
predict.logicBagg text html latex
print.logicFS text html latex
** building package indices ...
* DONE (logicFS)
* creating vignettes ... OK
* removing junk files
* checking for LF line-endings in source files
* checking for empty or unneeded directories
* building 'logicFS_1.4.0.tar.gz'