Back to the "Multiple platform build/check report"
| Package 91/188 | Hostname | OS | Arch | BUILD | CHECK | BUILD BIN |
lapmix1.0.0Yann RuffieuxLast Changed Date: 2006-10-03 12:16:03 -0700 Last Changed Rev: 20373 | lamb1 | Linux (SUSE 10.1) | x86_64 | OK | OK | |
| wellington | Linux (SUSE 9.2) | i686 | OK | OK | ||
| churchill | Solaris 2.9 | sparc | OK | OK | ||
| lemming | Windows Server 2003 | x86_64 | OK | OK | [ OK ] |
| Package: lapmix |
| Version: 1.0.0 |
| Command: D:\biocbld\bbs-1.9\R\bin\R.exe CMD INSTALL --build --library=lapmix.instdir lapmix_1.0.0.tar.gz |
| RetCode: 0 |
| Time: 7.0 seconds |
| Status: OK |
| PackageFile: lapmix_1.0.0.zip |
installing R.css in D:/biocbld/bbs-1.9/meat/lapmix.instdir
Using auto-selected zip options ''
---------- Making package lapmix ------------
adding build stamp to DESCRIPTION
installing R files
installing inst files
installing man source files
installing indices
installing help
>>> Building/Updating help pages for package 'lapmix'
Formats: text html latex example chm
lap.volcanoplot text html latex example chm
lapmix-internal text html latex chm
lapmix.Fit text html latex example chm
laptopTable text html latex example chm
Microsoft HTML Help Compiler 4.74.8702
Compiling d:\biocbld\bbs-1.9\meat\R.INSTALL\lapmix\chm\lapmix.chm
Compile time: 0 minutes, 0 seconds
5 Topics
7 Local links
0 Internet links
1 Graphic
Created d:\biocbld\bbs-1.9\meat\R.INSTALL\lapmix\chm\lapmix.chm, 21,899 bytes
Compression increased file by 4,461 bytes.
adding MD5 sums
packaged installation of package 'lapmix' as lapmix_1.0.0.zip
* DONE (lapmix)