Back to the "Multiple platform build/check report"
| Package 87/188 | Hostname | OS | Arch | BUILD | CHECK | BUILD BIN | 
| impute1.6.0Balasubramanian NarasimhanLast Changed Date: 2006-10-03 12:16:03 -0700 Last Changed Rev: 20373 | lamb1 | Linux (SUSE 10.1) | x86_64 | OK | ERROR | |
| wellington | Linux (SUSE 9.2) | i686 | OK | OK | ||
| churchill | Solaris 2.9 | sparc | OK | ERROR | ||
| lemming | Windows Server 2003 | x86_64 | OK | OK | [ OK ] | 
| Package: impute | 
| Version: 1.6.0 | 
| Command: D:\biocbld\bbs-1.9\R\bin\R.exe CMD INSTALL --build --library=impute.instdir impute_1.6.0.tar.gz | 
| RetCode: 0 | 
| Time: 10.0 seconds | 
| Status: OK | 
| PackageFile: impute_1.6.0.zip | 
installing R.css in D:/biocbld/bbs-1.9/meat/impute.instdir
Using auto-selected zip options 'impute-ZIPDATA=zip'
---------- Making package impute ------------
  adding build stamp to DESCRIPTION
  installing NAMESPACE file and metadata
  making DLL ...
g77 -O2 -Wall   -c knnimpute.f -o knnimpute.o
knnimpute.f: In subroutine `knnimp':
In file included from knnimpute.f:0:
knnimpute.f:6: warning: unused variable 'jj'
knnimpute.f: In subroutine `twomis':
knnimpute.f:132: warning: 'dold' might be used uninitialized in this function
windres --include-dir D:/biocbld/bbs-1.9/R/include  -i impute_res.rc -o impute_res.o
gcc  -shared -s  -o impute.dll impute.def knnimpute.o impute_res.o  -LD:/biocbld/bbs-1.9/R/bin   -lg2c -lR
  ... DLL made
  installing DLL
  installing R files
  installing data files
  installing man source files
  installing indices
  zipping data
  installing help
 >>> Building/Updating help pages for package 'impute'
     Formats: text html latex example chm 
  impute.knn                        text    html    latex   example chm
  khanmiss                          text    html    latex   example chm
Microsoft HTML Help Compiler 4.74.8702
Compiling d:\biocbld\bbs-1.9\meat\R.INSTALL\impute\chm\impute.chm
Compile time: 0 minutes, 0 seconds
3	Topics
4	Local links
0	Internet links
1	Graphic
Created d:\biocbld\bbs-1.9\meat\R.INSTALL\impute\chm\impute.chm, 21,621 bytes
Compression increased file by 8,078 bytes.
  adding MD5 sums
packaged installation of package 'impute' as impute_1.6.0.zip
* DONE (impute)