Back to the "Multiple platform build/check report"
| Package 88/188 | Hostname | OS | Arch | BUILD | CHECK | BUILD BIN |
iSNetwork1.4.0Elizabeth WhalenLast Changed Date: 2006-10-03 12:16:03 -0700 Last Changed Rev: 20373 | lamb1 | Linux (SUSE 10.1) | x86_64 | OK | WARNINGS | |
| wellington | Linux (SUSE 9.2) | i686 | OK | OK | ||
| churchill | Solaris 2.9 | sparc | OK | OK | ||
| lemming | Windows Server 2003 | x86_64 | [ ERROR ] | skipped | skipped |
| Package: iSNetwork |
| Version: 1.4.0 |
| Command: D:\biocbld\bbs-1.9\R\bin\R.exe CMD build iSNetwork |
| RetCode: 1 |
| Time: 5.5 seconds |
| Status: ERROR |
| PackageFile: None |
* checking for file 'iSNetwork/DESCRIPTION' ... OK
* preparing 'iSNetwork':
* checking DESCRIPTION meta-information ... OK
* installing the package to re-build vignettes
installing R.css in D:/biocbld/bbs-1.9/tmpdir/Rinst470883309
---------- Making package iSNetwork ------------
adding build stamp to DESCRIPTION
installing NAMESPACE file and metadata
installing R files
save image
Loading required package: graph
Loading required package: Biobase
Loading required package: tools
Welcome to Bioconductor
Vignettes contain introductory material. To view, type
'openVignette()' or start with 'help(Biobase)'. For details
on reading vignettes, see the openVignette help page.
Loading required package: Rgraphviz
Loading required package: geneplotter
Loading required package: annotate
KernSmooth 2.22 installed
Copyright M. P. Wand 1997
Loading required package: RGtk
Error: package 'RGtk' could not be loaded
In addition: Warning message:
there is no package called 'RGtk' in: library(pkg, character.only = TRUE, logical = TRUE, lib.loc = lib.loc)
Execution halted
execution of package source for 'iSNetwork' failed
make[2]: *** [D:/biocbld/bbs-1.9/tmpdir/Rinst470883309/iSNetwork/R/iSNetwork] Error 1
make[1]: *** [all] Error 2
make: *** [pkg-iSNetwork] Error 2
*** Installation of iSNetwork failed ***
Removing 'D:/biocbld/bbs-1.9/tmpdir/Rinst470883309/iSNetwork'
ERROR
Installation failed.
Removing 'D:/biocbld/bbs-1.9/tmpdir/Rinst470883309'