Back to the "Multiple platform build/check report"
| Package 83/188 | Hostname | OS | Arch | BUILD | CHECK | BUILD BIN | 
| hopach1.8.0Katherine S. PollardLast Changed Date: 2006-10-03 12:16:03 -0700 Last Changed Rev: 20373 | lamb1 | Linux (SUSE 10.1) | x86_64 | OK | OK | |
| wellington | Linux (SUSE 9.2) | i686 | OK | OK | ||
| churchill | Solaris 2.9 | sparc | OK | OK | ||
| lemming | Windows Server 2003 | x86_64 | OK | OK | [ OK ] | 
| Package: hopach | 
| Version: 1.8.0 | 
| Command: D:\biocbld\bbs-1.9\R\bin\R.exe CMD INSTALL --build --library=hopach.instdir hopach_1.8.0.tar.gz | 
| RetCode: 0 | 
| Time: 13.0 seconds | 
| Status: OK | 
| PackageFile: hopach_1.8.0.zip | 
installing R.css in D:/biocbld/bbs-1.9/meat/hopach.instdir
Using auto-selected zip options 'hopach-ZIPDATA=zip'
---------- Making package hopach ------------
  adding build stamp to DESCRIPTION
  installing R files
  installing inst files
  installing data files
  installing man source files
  installing indices
  zipping data
  installing help
 >>> Building/Updating help pages for package 'hopach'
     Formats: text html latex example chm 
  boot2fuzzy                        text    html    latex   example chm
  bootplot                          text    html    latex   example chm
  bootstrap                         text    html    latex   example chm
  correlationordering               text    html    latex   example chm
  disscosangle                      text    html    latex   example chm
  distancematrix                    text    html    latex   example chm
  dplot                             text    html    latex   example chm
  golub                             text    html    latex           chm
  hopach                            text    html    latex   example chm
  hopach.internal                   text    html    latex   example chm
  hopach2tree                       text    html    latex   example chm
  labelstomss                       text    html    latex   example chm
  makeoutput                        text    html    latex   example chm
  prune                             text    html    latex   example chm
Microsoft HTML Help Compiler 4.74.8702
Compiling d:\biocbld\bbs-1.9\meat\R.INSTALL\hopach\chm\hopach.chm
Compile time: 0 minutes, 0 seconds
15	Topics
69	Local links
22	Internet links
1	Graphic
Created d:\biocbld\bbs-1.9\meat\R.INSTALL\hopach\chm\hopach.chm, 60,145 bytes
Compression decreased file by 50,771 bytes.
  preparing package hopach for lazy loading
Loading required package: cluster
Loading required package: Biobase
Loading required package: tools
Welcome to Bioconductor
    Vignettes contain introductory material. To view, type
    'openVignette()' or start with 'help(Biobase)'. For details
    on reading vignettes, see the openVignette help page.
  adding MD5 sums
packaged installation of package 'hopach' as hopach_1.8.0.zip
* DONE (hopach)