Back to the "Multiple platform build/check report"
| Package 82/188 | Hostname | OS | Arch | BUILD | CHECK | BUILD BIN | 
| hexbin1.8.0Nicholas Lewin-KohLast Changed Date: 2006-10-03 12:16:03 -0700 Last Changed Rev: 20373 | lamb1 | Linux (SUSE 10.1) | x86_64 | OK | OK | |
| wellington | Linux (SUSE 9.2) | i686 | OK | OK | ||
| churchill | Solaris 2.9 | sparc | OK | OK | ||
| lemming | Windows Server 2003 | x86_64 | [ OK ] | OK | OK | 
| Package: hexbin | 
| Version: 1.8.0 | 
| Command: D:\biocbld\bbs-1.9\R\bin\R.exe CMD build hexbin | 
| RetCode: 0 | 
| Time: 60.5 seconds | 
| Status: OK | 
| PackageFile: hexbin_1.8.0.tar.gz | 
* checking for file 'hexbin/DESCRIPTION' ... OK
* preparing 'hexbin':
* checking DESCRIPTION meta-information ... OK
* cleaning src
* installing the package to re-build vignettes
installing R.css in D:/biocbld/bbs-1.9/tmpdir/Rinst382866186
---------- Making package hexbin ------------
  adding build stamp to DESCRIPTION
  installing NAMESPACE file and metadata
  making DLL ...
g77 -O2 -Wall   -c hbin.f -o hbin.o
g77 -O2 -Wall   -c hcell.f -o hcell.o
g77 -O2 -Wall   -c herode.f -o herode.o
g77 -O2 -Wall   -c hsm.f -o hsm.o
windres --include-dir d:/biocbld/bbs-1.9/R/include  -i hexbin_res.rc -o hexbin_res.o
gcc  -shared -s  -o hexbin.dll hexbin.def hbin.o hcell.o herode.o hsm.o hexbin_res.o  -Ld:/biocbld/bbs-1.9/R/bin   -lg2c -lR
  ... DLL made
  installing DLL
  installing R files
  installing inst files
  installing data files
  installing man source files
  installing indices
  not zipping data
  installing help
 >>> Building/Updating help pages for package 'hexbin'
     Formats: text html latex example chm 
  NHANES                            text    html    latex   example chm
  colramp                           text    html    latex   example chm
  erode.hexbin                      text    html    latex   example chm
  getHMedian                        text    html    latex   example chm
  gplot.hexbin                      text    html    latex   example chm
  grid.hexagons                     text    html    latex   example chm
  grid.hexlegend                    text    html    latex   example chm
  hboxplot                          text    html    latex   example chm
  hcell2xy                          text    html    latex   example chm
  hcell2xyInt                       text    html    latex   example chm
  hdiffplot                         text    html    latex   example chm
  hexGraphPaper                     text    html    latex   example chm
  hexList                           text    html    latex   example chm
  hexMA.loess                       text    html    latex   example chm
  hexTapply                         text    html    latex   example chm
  hexVP-class                       text    html    latex   example chm
  hexVP.abline                      text    html    latex   example chm
  hexViewport                       text    html    latex   example chm
  hexbin                            text    html    latex   example chm
  hexbinplot                        text    html    latex   example chm
  hexplom                           text    html    latex   example chm
  hexpolygon                        text    html    latex   example chm
  hsmooth-methods                   text    html    latex           chm
  inout.hex                         text    html    latex           chm
  list2hexList                      text    html    latex           chm
  old-classes                       text    html    latex           chm
  optShape                          text    html    latex   example chm
  panel.hexboxplot                  text    html    latex   example chm
  panel.hexgrid                     text    html    latex   example chm
  panel.hexloess                    text    html    latex   example chm
  plotMAhex                         text    html    latex   example chm
  pushHexport                       text    html    latex           chm
  smooth.hexbin                     text    html    latex   example chm
Microsoft HTML Help Compiler 4.74.8702
Compiling d:\biocbld\bbs-1.9\meat\hexbin\chm\hexbin.chm
Compile time: 0 minutes, 0 seconds
34	Topics
243	Local links
2	Internet links
1	Graphic
Created d:\biocbld\bbs-1.9\meat\hexbin\chm\hexbin.chm, 83,673 bytes
Compression decreased file by 92,313 bytes.
  preparing package hexbin for lazy loading
Loading required package: grid
Loading required package: lattice
Loading required package: colorspace
Creating a new generic function for "summary" in "hexbin"
  adding MD5 sums
* DONE (hexbin)
* creating vignettes ... OK
* cleaning src
* removing junk files
* checking for LF line-endings in source files
* checking for empty or unneeded directories
* building 'hexbin_1.8.0.tar.gz'