Back to the "Multiple platform build/check report"
| Package 48/188 | Hostname | OS | Arch | BUILD | CHECK | BUILD BIN |
diffGeneAnalysis1.16.0Choudary JagarlamudiLast Changed Date: 2006-10-03 12:16:03 -0700 Last Changed Rev: 20373 | lamb1 | Linux (SUSE 10.1) | x86_64 | OK | OK | |
| wellington | Linux (SUSE 9.2) | i686 | OK | OK | ||
| churchill | Solaris 2.9 | sparc | OK | OK | ||
| lemming | Windows Server 2003 | x86_64 | [ OK ] | OK | OK |
| Package: diffGeneAnalysis |
| Version: 1.16.0 |
| Command: D:\biocbld\bbs-1.9\R\bin\R.exe CMD build diffGeneAnalysis |
| RetCode: 0 |
| Time: 12.5 seconds |
| Status: OK |
| PackageFile: diffGeneAnalysis_1.16.0.tar.gz |
* checking for file 'diffGeneAnalysis/DESCRIPTION' ... OK
* preparing 'diffGeneAnalysis':
* checking DESCRIPTION meta-information ... OK
* installing the package to re-build vignettes
installing R.css in D:/biocbld/bbs-1.9/tmpdir/Rinst593632626
---------- Making package diffGeneAnalysis ------------
adding build stamp to DESCRIPTION
installing R files
installing inst files
installing data files
installing man source files
installing indices
not zipping data
installing help
>>> Building/Updating help pages for package 'diffGeneAnalysis'
Formats: text html latex example chm
assocAnalysis text html latex example
biasAdjust text html latex example
curveFit text html latex example
dataTrim text html latex example
normalize text html latex example
rawdata text html latex example
refGroup text html latex example
adding MD5 sums
* DONE (diffGeneAnalysis)
* creating vignettes ... OK
* removing junk files
* excluding invalid files from 'diffGeneAnalysis'
Subdirectory 'R' contains invalid file names:
diffGeneAnalysis
Subdirectory 'man' contains invalid file names:
README
* checking for LF line-endings in source files
* checking for empty or unneeded directories
* building 'diffGeneAnalysis_1.16.0.tar.gz'