Back to the "Multiple platform build/check report"
| Package 40/188 | Hostname | OS | Arch | BUILD | CHECK | BUILD BIN |
clusterStab1.6.0James W. MacDonaldLast Changed Date: 2006-10-03 12:16:03 -0700 Last Changed Rev: 20373 | lamb1 | Linux (SUSE 10.1) | x86_64 | OK | OK | |
| wellington | Linux (SUSE 9.2) | i686 | OK | OK | ||
| churchill | Solaris 2.9 | sparc | OK | OK | ||
| lemming | Windows Server 2003 | x86_64 | [ OK ] | OK | OK |
| Package: clusterStab |
| Version: 1.6.0 |
| Command: D:\biocbld\bbs-1.9\R\bin\R.exe CMD build clusterStab |
| RetCode: 0 |
| Time: 26.5 seconds |
| Status: OK |
| PackageFile: clusterStab_1.6.0.tar.gz |
* checking for file 'clusterStab/DESCRIPTION' ... OK
* preparing 'clusterStab':
* checking DESCRIPTION meta-information ... OK
* installing the package to re-build vignettes
installing R.css in D:/biocbld/bbs-1.9/tmpdir/Rinst516475958
---------- Making package clusterStab ------------
adding build stamp to DESCRIPTION
installing R files
save image
Loading required package: Biobase
Loading required package: tools
Welcome to Bioconductor
Vignettes contain introductory material. To view, type
'openVignette()' or start with 'help(Biobase)'. For details
on reading vignettes, see the openVignette help page.
[1] "benhur"
[1] "clusterComp"
[1] "benhur"
[1] "clusterComp"
[1] "hist"
[1] "ecdf"
[1] "benhur"
[1] "benhur"
[1] "benhur"
[1] "show"
[1] "hist"
[1] "ecdf"
[1] "clusterComp"
[1] "clusterComp"
[1] "clusterComp"
[1] "show"
installing inst files
installing man source files
installing indices
installing help
>>> Building/Updating help pages for package 'clusterStab'
Formats: text html latex example chm
benhur-class text html latex chm
benhur text html latex example chm
clusterComp-class text html latex chm
clusterComp text html latex example chm
Microsoft HTML Help Compiler 4.74.8702
Compiling d:\biocbld\bbs-1.9\meat\clusterStab\chm\clusterStab.chm
Compile time: 0 minutes, 0 seconds
5 Topics
22 Local links
0 Internet links
1 Graphic
Created d:\biocbld\bbs-1.9\meat\clusterStab\chm\clusterStab.chm, 23,056 bytes
Compression decreased file by 1,784 bytes.
preparing package clusterStab for lazy loading
Loading required package: Biobase
Loading required package: tools
Welcome to Bioconductor
Vignettes contain introductory material. To view, type
'openVignette()' or start with 'help(Biobase)'. For details
on reading vignettes, see the openVignette help page.
adding MD5 sums
* DONE (clusterStab)
* creating vignettes ... OK
* removing junk files
* checking for LF line-endings in source files
* checking for empty or unneeded directories
* building 'clusterStab_1.6.0.tar.gz'