Back to the "Multiple platform build/check report"
| Package 10/188 | Hostname | OS | Arch | BUILD | CHECK | BUILD BIN | 
| affylmGUI1.8.0Keith SatterleyLast Changed Date: 2006-10-03 12:16:03 -0700 Last Changed Rev: 20373 | lamb1 | Linux (SUSE 10.1) | x86_64 | OK | OK | |
| wellington | Linux (SUSE 9.2) | i686 | OK | OK | ||
| churchill | Solaris 2.9 | sparc | OK | OK | ||
| lemming | Windows Server 2003 | x86_64 | OK | OK | [ OK ] | 
| Package: affylmGUI | 
| Version: 1.8.0 | 
| Command: D:\biocbld\bbs-1.9\R\bin\R.exe CMD INSTALL --build --library=affylmGUI.instdir affylmGUI_1.8.0.tar.gz | 
| RetCode: 0 | 
| Time: 11.0 seconds | 
| Status: OK | 
| PackageFile: affylmGUI_1.8.0.zip | 
installing R.css in D:/biocbld/bbs-1.9/meat/affylmGUI.instdir
Using auto-selected zip options ''
---------- Making package affylmGUI ------------
  adding build stamp to DESCRIPTION
  installing R files
  installing inst files
  installing man source files
  installing indices
  installing help
 >>> Building/Updating help pages for package 'affylmGUI'
     Formats: text html latex example chm 
  ALGchangeLog                      text    html    latex           chm
  affylmGUI                         text    html    latex           chm
Microsoft HTML Help Compiler 4.74.8702
Compiling d:\biocbld\bbs-1.9\meat\R.INSTALL\affylmGUI\chm\affylmGUI.chm
Compile time: 0 minutes, 0 seconds
3	Topics
111	Local links
0	Internet links
1	Graphic
Created d:\biocbld\bbs-1.9\meat\R.INSTALL\affylmGUI\chm\affylmGUI.chm, 25,034 bytes
Compression decreased file by 28,707 bytes.
  preparing package affylmGUI for lazy loading
Loading required package: limma
Loading required package: tcltk
Loading required package: affy
Loading required package: Biobase
Loading required package: tools
Welcome to Bioconductor
    Vignettes contain introductory material. To view, type
    'openVignette()' or start with 'help(Biobase)'. For details
    on reading vignettes, see the openVignette help page.
Loading required package: affyio
  adding MD5 sums
packaged installation of package 'affylmGUI' as affylmGUI_1.8.0.zip
* DONE (affylmGUI)