Back to the "Multiple platform build/check report"
| Package 8/188 | Hostname | OS | Arch | BUILD | CHECK | BUILD BIN | 
| affydata1.10.0LaurentLast Changed Date: 2006-10-03 12:16:03 -0700 Last Changed Rev: 20373 | lamb1 | Linux (SUSE 10.1) | x86_64 | OK | OK | |
| wellington | Linux (SUSE 9.2) | i686 | OK | OK | ||
| churchill | Solaris 2.9 | sparc | OK | OK | ||
| lemming | Windows Server 2003 | x86_64 | [ OK ] | OK | OK | 
| Package: affydata | 
| Version: 1.10.0 | 
| Command: D:\biocbld\bbs-1.9\R\bin\R.exe CMD build affydata | 
| RetCode: 0 | 
| Time: 60.9 seconds | 
| Status: OK | 
| PackageFile: affydata_1.10.0.tar.gz | 
* checking for file 'affydata/DESCRIPTION' ... OK
* preparing 'affydata':
* checking DESCRIPTION meta-information ... OK
* installing the package to re-build vignettes
installing R.css in D:/biocbld/bbs-1.9/tmpdir/Rinst576412567
---------- Making package affydata ------------
  adding build stamp to DESCRIPTION
  installing R files
  installing inst files
  installing data files
  installing man source files
  installing indices
  not zipping data
  installing help
 >>> Building/Updating help pages for package 'affydata'
     Formats: text html latex example chm 
  Dilution                          text    html    latex           chm
Microsoft HTML Help Compiler 4.74.8702
Compiling d:\biocbld\bbs-1.9\meat\affydata\chm\affydata.chm
Compile time: 0 minutes, 1 second
2	Topics
2	Local links
1	Internet link
1	Graphic
Created d:\biocbld\bbs-1.9\meat\affydata\chm\affydata.chm, 16,251 bytes
Compression increased file by 9,159 bytes.
  adding MD5 sums
* DONE (affydata)
* creating vignettes ... OK
* removing junk files
* checking for LF line-endings in source files
* checking for empty or unneeded directories
* building 'affydata_1.10.0.tar.gz'