Back to the "Multiple platform build/check report"
| Package 13/188 | Hostname | OS | Arch | BUILD | CHECK | BUILD BIN |
affyQCReport1.12.0Craig ParmanLast Changed Date: 2006-10-03 12:16:03 -0700 Last Changed Rev: 20373 | lamb1 | Linux (SUSE 10.1) | x86_64 | OK | OK | |
| wellington | Linux (SUSE 9.2) | i686 | OK | OK | ||
| churchill | Solaris 2.9 | sparc | OK | OK | ||
| lemming | Windows Server 2003 | x86_64 | [ OK ] | OK | OK |
| Package: affyQCReport |
| Version: 1.12.0 |
| Command: D:\biocbld\bbs-1.9\R\bin\R.exe CMD build affyQCReport |
| RetCode: 0 |
| Time: 51.1 seconds |
| Status: OK |
| PackageFile: affyQCReport_1.12.0.tar.gz |
* checking for file 'affyQCReport/DESCRIPTION' ... OK
* preparing 'affyQCReport':
* checking DESCRIPTION meta-information ... OK
* installing the package to re-build vignettes
installing R.css in D:/biocbld/bbs-1.9/tmpdir/Rinst503611676
---------- Making package affyQCReport ------------
adding build stamp to DESCRIPTION
installing R files
installing inst files
installing man source files
installing indices
installing help
>>> Building/Updating help pages for package 'affyQCReport'
Formats: text html latex example chm
QCReport text html latex example
borderQC1 text html latex example
borderQC2 text html latex example
correlationPlot text html latex example
signalDist text html latex example
titlePage text html latex example
adding MD5 sums
* DONE (affyQCReport)
* creating vignettes ... OK
* removing junk files
* checking for LF line-endings in source files
* checking for empty or unneeded directories
* building 'affyQCReport_1.12.0.tar.gz'