Back to the "Multiple platform build/check report"
| Package 3/188 | Hostname | OS | Arch | BUILD | CHECK | BUILD BIN |
adSplit1.4.0Claudio LottazLast Changed Date: 2006-10-03 12:16:03 -0700 Last Changed Rev: 20373 | lamb1 | Linux (SUSE 10.1) | x86_64 | OK | OK | |
| wellington | Linux (SUSE 9.2) | i686 | OK | OK | ||
| churchill | Solaris 2.9 | sparc | OK | OK | ||
| lemming | Windows Server 2003 | x86_64 | OK | [ OK ] | OK |
| Package: adSplit |
| Version: 1.4.0 |
| Command: D:\biocbld\bbs-1.9\R\bin\R.exe CMD check adSplit_1.4.0.tar.gz |
| RetCode: 0 |
| Time: 189.4 seconds |
| Status: OK |
| CheckDir: adSplit.Rcheck |
| Warnings: 0 |
* checking for working latex ... OK * using log directory 'D:/biocbld/bbs-1.9/meat/adSplit.Rcheck' * using R version 2.4.1 (2006-12-18) * checking for file 'adSplit/DESCRIPTION' ... OK * this is package 'adSplit' version '1.4.0' * checking package dependencies ... OK * checking if this is a source package ... OK * checking whether package 'adSplit' can be installed ... OK * checking package directory ... OK * checking for portable file names ... OK * checking DESCRIPTION meta-information ... OK * checking top-level files ... OK * checking index information ... OK * checking package subdirectories ... OK * checking R files for syntax errors ... OK * checking R files for non-ASCII characters ... OK * checking whether the package can be loaded ... OK * checking whether the package can be loaded with stated dependencies ... OK * checking whether the name space can be loaded with stated dependencies ... OK * checking S3 generic/method consistency ... OK * checking replacement functions ... OK * checking foreign function calls ... OK * checking R code for possible problems ... OK * checking Rd files ... OK * checking Rd cross-references ... OK * checking for missing documentation entries ... OK * checking for code/documentation mismatches ... OK * checking Rd \usage sections ... OK * checking for CRLF line endings in C/C++/Fortran sources/headers ... OK * checking for portable use of $BLAS_LIBS ... OK * creating adSplit-Ex.R ... OK * checking examples ... OK * checking package vignettes in 'inst/doc' ... OK * creating adSplit-manual.tex ... OK * checking adSplit-manual.tex ... OK
adSplit.Rcheck/00install.out:
installing R.css in D:/biocbld/bbs-1.9/meat/adSplit.Rcheck
---------- Making package adSplit ------------
adding build stamp to DESCRIPTION
installing NAMESPACE file and metadata
making DLL ...
making adSplit.d from adSplit.cpp
g++ -Id:/biocbld/bbs-1.9/R/include -Wall -O2 -c adSplit.cpp -o adSplit.o
adSplit.cpp: In function `void isis(char**, double*, int*, int*, int*, int*, int*, double*, int*)':
adSplit.cpp:437: warning: 's' might be used uninitialized in this function
windres --include-dir d:/biocbld/bbs-1.9/R/include -i adSplit_res.rc -o adSplit_res.o
g++ -shared -s -o adSplit.dll adSplit.def adSplit.o adSplit_res.o -Ld:/biocbld/bbs-1.9/R/bin -lR
... DLL made
installing DLL
installing R files
save image
Loading required package: cluster
Loading required package: multtest
Loading required package: Biobase
Loading required package: tools
Welcome to Bioconductor
Vignettes contain introductory material. To view, type
'openVignette()' or start with 'help(Biobase)'. For details
on reading vignettes, see the openVignette help page.
Loading required package: survival
Loading required package: splines
Loading required package: affy
Loading required package: affyio
Loading required package: GO
Loading required package: KEGG
installing inst files
installing data files
installing man source files
installing indices
not zipping data
installing help
>>> Building/Updating help pages for package 'adSplit'
Formats: text html latex example chm
adSplit-internal text html latex chm
adSplit text html latex example chm
diana2means text html latex example chm
drawRandomPS text html latex example chm
golubKEGGSplits text html latex example chm
hist.splitSet text html latex example chm
image.splitSet text html latex example chm
makeEID2PROBESenv text html latex example chm
print.split text html latex chm
print.splitSet text html latex example chm
randomDiana2means text html latex example chm
Microsoft HTML Help Compiler 4.74.8702
Compiling d:\biocbld\bbs-1.9\meat\adSplit.Rcheck\00_pkg_src\adSplit\chm\adSplit.chm
Compile time: 0 minutes, 0 seconds
12 Topics
28 Local links
0 Internet links
1 Graphic
Created d:\biocbld\bbs-1.9\meat\adSplit.Rcheck\00_pkg_src\adSplit\chm\adSplit.chm, 28,266 bytes
Compression decreased file by 6,106 bytes.
adding MD5 sums
* DONE (adSplit)