Back to the "Multiple platform build/check report"
| Package 161/188 | Hostname | OS | Arch | BUILD | CHECK | BUILD BIN | 
| SAGx1.7.1Per BrobergLast Changed Date: 2006-11-14 11:59:28 -0800 Last Changed Rev: 21123 | lamb1 | Linux (SUSE 10.1) | x86_64 | OK | OK | |
| wellington | Linux (SUSE 9.2) | i686 | OK | OK | ||
| churchill | Solaris 2.9 | sparc | OK | OK | ||
| lemming | Windows Server 2003 | x86_64 | OK | OK | [ OK ] | 
| Package: SAGx | 
| Version: 1.7.1 | 
| Command: D:\biocbld\bbs-1.9\R\bin\R.exe CMD INSTALL --build --library=SAGx.instdir SAGx_1.7.1.tar.gz | 
| RetCode: 0 | 
| Time: 14.0 seconds | 
| Status: OK | 
| PackageFile: SAGx_1.7.1.zip | 
installing R.css in D:/biocbld/bbs-1.9/meat/SAGx.instdir
Using auto-selected zip options ''
---------- Making package SAGx ------------
  adding build stamp to DESCRIPTION
  installing NAMESPACE file and metadata
  making DLL ...
making minigsea.d from minigsea.c
making newboot.d from newboot.c
making samrocNboot.d from samrocNboot.c
gcc   -ID:/biocbld/bbs-1.9/R/include  -Wall -O2 -std=gnu99   -c minigsea.c -o minigsea.o
gcc   -ID:/biocbld/bbs-1.9/R/include  -Wall -O2 -std=gnu99   -c newboot.c -o newboot.o
gcc   -ID:/biocbld/bbs-1.9/R/include  -Wall -O2 -std=gnu99   -c samrocNboot.c -o samrocNboot.o
windres --include-dir D:/biocbld/bbs-1.9/R/include  -i SAGx_res.rc -o SAGx_res.o
gcc  -shared -s  -o SAGx.dll SAGx.def minigsea.o newboot.o samrocNboot.o SAGx_res.o  -LD:/biocbld/bbs-1.9/R/bin    -lR
  ... DLL made
  installing DLL
  installing R files
  installing inst files
  installing man source files
  installing indices
  installing help
 >>> Building/Updating help pages for package 'SAGx'
     Formats: text html latex example chm 
  Fstat                             text    html    latex   example chm
  GSEA.mean.t                       text    html    latex           chm
  JT.test                           text    html    latex   example chm
  R2BASE                            text    html    latex           chm
  R2mim                             text    html    latex           chm
  Xprep                             text    html    latex           chm
  Xprep.resid                       text    html    latex           chm
  clin2mim                          text    html    latex           chm
  cluster.q                         text    html    latex           chm
  estimatep0                        text    html    latex           chm
  fetchSignal                       text    html    latex   example chm
  firstpass                         text    html    latex   example chm
  fom                               text    html    latex           chm
  fp.fn                             text    html    latex           chm
  gap                               text    html    latex   example chm
  list.experiments                  text    html    latex   example chm
  list.intersection.p               text    html    latex           chm
  mat2TeX                           text    html    latex           chm
  myclus                            text    html    latex   example chm
  normalise                         text    html    latex           chm
  one.probeset.per.gene             text    html    latex           chm
  outlier                           text    html    latex   example chm
  p0.mom                            text    html    latex           chm
  pava.fdr                          text    html    latex           chm
  pava                              text    html    latex   example chm
  rank.genes                        text    html    latex           chm
  rank.trend                        text    html    latex   example chm
  rsd.test                          text    html    latex           chm
  samroc.result-class               text    html    latex           chm
  samrocn                           text    html    latex           chm
  samrocnboot                       text    html    latex   example chm
  union.of.pways                    text    html    latex   example chm
Microsoft HTML Help Compiler 4.74.8702
Compiling d:\biocbld\bbs-1.9\meat\R.INSTALL\SAGx\chm\SAGx.chm
Compile time: 0 minutes, 0 seconds
33	Topics
68	Local links
6	Internet links
1	Graphic
Created d:\biocbld\bbs-1.9\meat\R.INSTALL\SAGx\chm\SAGx.chm, 51,363 bytes
Compression decreased file by 35,960 bytes.
  preparing package SAGx for lazy loading
Loading required package: multtest
Loading required package: Biobase
Loading required package: tools
Welcome to Bioconductor
    Vignettes contain introductory material. To view, type
    'openVignette()' or start with 'help(Biobase)'. For details
    on reading vignettes, see the openVignette help page.
Loading required package: survival
Loading required package: splines
Loading required package: sma
  adding MD5 sums
packaged installation of package 'SAGx' as SAGx_1.7.1.zip
* DONE (SAGx)