Back to the "Multiple platform build/check report"
| Package 149/188 | Hostname | OS | Arch | BUILD | CHECK | BUILD BIN |
Resourcerer1.8.0Jianhua ZhangLast Changed Date: 2006-10-03 12:16:03 -0700 Last Changed Rev: 20373 | lamb1 | Linux (SUSE 10.1) | x86_64 | OK | OK | |
| wellington | Linux (SUSE 9.2) | i686 | OK | OK | ||
| churchill | Solaris 2.9 | sparc | ERROR | skipped | ||
| lemming | Windows Server 2003 | x86_64 | [ OK ] | OK | OK |
| Package: Resourcerer |
| Version: 1.8.0 |
| Command: D:\biocbld\bbs-1.9\R\bin\R.exe CMD build Resourcerer |
| RetCode: 0 |
| Time: 37.5 seconds |
| Status: OK |
| PackageFile: Resourcerer_1.8.0.tar.gz |
* checking for file 'Resourcerer/DESCRIPTION' ... OK
* preparing 'Resourcerer':
* checking DESCRIPTION meta-information ... OK
* installing the package to re-build vignettes
installing R.css in D:/biocbld/bbs-1.9/tmpdir/Rinst394020504
---------- Making package Resourcerer ------------
adding build stamp to DESCRIPTION
installing NAMESPACE file and metadata
installing R files
installing inst files
installing man source files
installing indices
installing help
>>> Building/Updating help pages for package 'Resourcerer'
Formats: text html latex example chm
getRsourcerer text html latex example chm
resourcerer2BioC text html latex example chm
Microsoft HTML Help Compiler 4.74.8702
Compiling d:\biocbld\bbs-1.9\meat\Resourcerer\chm\Resourcerer.chm
Compile time: 0 minutes, 0 seconds
3 Topics
6 Local links
2 Internet links
1 Graphic
Created d:\biocbld\bbs-1.9\meat\Resourcerer\chm\Resourcerer.chm, 20,012 bytes
Compression increased file by 4,926 bytes.
preparing package Resourcerer for lazy loading
Loading required package: AnnBuilder
Loading required package: Biobase
Loading required package: tools
Welcome to Bioconductor
Vignettes contain introductory material. To view, type
'openVignette()' or start with 'help(Biobase)'. For details
on reading vignettes, see the openVignette help page.
Loading required package: XML
Loading required package: annotate
Loading required package: RSQLite
Loading required package: DBI
adding MD5 sums
* DONE (Resourcerer)
* creating vignettes ... OK
* removing junk files
* checking for LF line-endings in source files
* checking for empty or unneeded directories
* building 'Resourcerer_1.8.0.tar.gz'