Back to the "Multiple platform build/check report"
| Package 156/188 | Hostname | OS | Arch | BUILD | CHECK | BUILD BIN |
RSNPper1.8.0VJ CareyLast Changed Date: 2006-10-03 12:16:03 -0700 Last Changed Rev: 20373 | lamb1 | Linux (SUSE 10.1) | x86_64 | OK | OK | |
| wellington | Linux (SUSE 9.2) | i686 | OK | OK | ||
| churchill | Solaris 2.9 | sparc | OK | OK | ||
| lemming | Windows Server 2003 | x86_64 | OK | OK | [ OK ] |
| Package: RSNPper |
| Version: 1.8.0 |
| Command: D:\biocbld\bbs-1.9\R\bin\R.exe CMD INSTALL --build --library=RSNPper.instdir RSNPper_1.8.0.tar.gz |
| RetCode: 0 |
| Time: 7.0 seconds |
| Status: OK |
| PackageFile: RSNPper_1.8.0.zip |
installing R.css in D:/biocbld/bbs-1.9/meat/RSNPper.instdir
Using auto-selected zip options ''
---------- Making package RSNPper ------------
adding build stamp to DESCRIPTION
installing NAMESPACE file and metadata
installing R files
installing inst files
installing man source files
installing indices
installing help
>>> Building/Updating help pages for package 'RSNPper'
Formats: text html latex example chm
SNPperMeta-class text html latex example chm
geneInfo text html latex example chm
Microsoft HTML Help Compiler 4.74.8702
Compiling d:\biocbld\bbs-1.9\meat\R.INSTALL\RSNPper\chm\RSNPper.chm
Compile time: 0 minutes, 0 seconds
3 Topics
34 Local links
0 Internet links
1 Graphic
Created d:\biocbld\bbs-1.9\meat\R.INSTALL\RSNPper\chm\RSNPper.chm, 21,644 bytes
Compression decreased file by 1,435 bytes.
adding MD5 sums
packaged installation of package 'RSNPper' as RSNPper_1.8.0.zip
* DONE (RSNPper)