Back to the "Multiple platform build/check report"
| Package 124/188 | Hostname | OS | Arch | BUILD | CHECK | BUILD BIN | 
| OrderedList1.6.0Claudio LottazLast Changed Date: 2006-10-03 12:16:03 -0700 Last Changed Rev: 20373 | lamb1 | Linux (SUSE 10.1) | x86_64 | OK | OK | |
| wellington | Linux (SUSE 9.2) | i686 | OK | OK | ||
| churchill | Solaris 2.9 | sparc | OK | OK | ||
| lemming | Windows Server 2003 | x86_64 | OK | OK | [ OK ] | 
| Package: OrderedList | 
| Version: 1.6.0 | 
| Command: D:\biocbld\bbs-1.9\R\bin\R.exe CMD INSTALL --build --library=OrderedList.instdir OrderedList_1.6.0.tar.gz | 
| RetCode: 0 | 
| Time: 11.0 seconds | 
| Status: OK | 
| PackageFile: OrderedList_1.6.0.zip | 
installing R.css in D:/biocbld/bbs-1.9/meat/OrderedList.instdir
Using auto-selected zip options 'OrderedList-ZIPDATA=zip'
---------- Making package OrderedList ------------
  adding build stamp to DESCRIPTION
  installing R files
  save image
Loading required package: Biobase
Loading required package: tools
Welcome to Bioconductor
    Vignettes contain introductory material. To view, type
    'openVignette()' or start with 'help(Biobase)'. For details
    on reading vignettes, see the openVignette help page.
Loading required package: twilight
Loading required package: splines
  installing inst files
  installing data files
  installing man source files
  installing indices
  zipping data
  installing help
 >>> Building/Updating help pages for package 'OrderedList'
     Formats: text html latex example chm 
  OL.data                           text    html    latex           chm
  OL.result                         text    html    latex   example chm
  OrderedList                       text    html    latex   example chm
  check.test.args                   text    html    latex           chm
  compareLists                      text    html    latex   example chm
  getOverlap                        text    html    latex   example chm
  overlap                           text    html    latex           chm
  plot.OrderedList                  text    html    latex   example chm
  prepareData                       text    html    latex   example chm
  preparePermutations               text    html    latex           chm
  print.OrderedList                 text    html    latex   example chm
  scoreOrderComparison              text    html    latex           chm
  scoreRankings                     text    html    latex           chm
  shuffledRandomScores              text    html    latex           chm
Microsoft HTML Help Compiler 4.74.8702
Compiling d:\biocbld\bbs-1.9\meat\R.INSTALL\OrderedList\chm\OrderedList.chm
Compile time: 0 minutes, 0 seconds
15	Topics
53	Local links
0	Internet links
1	Graphic
Created d:\biocbld\bbs-1.9\meat\R.INSTALL\OrderedList\chm\OrderedList.chm, 38,812 bytes
Compression decreased file by 20,901 bytes.
  adding MD5 sums
packaged installation of package 'OrderedList' as OrderedList_1.6.0.zip
* DONE (OrderedList)