Back to the "Multiple platform build/check report"
| Package 109/188 | Hostname | OS | Arch | BUILD | CHECK | BUILD BIN |
MeasurementError.cor1.6.0Beiying DingLast Changed Date: 2006-10-03 12:16:03 -0700 Last Changed Rev: 20373 | lamb1 | Linux (SUSE 10.1) | x86_64 | OK | OK | |
| wellington | Linux (SUSE 9.2) | i686 | OK | OK | ||
| churchill | Solaris 2.9 | sparc | OK | OK | ||
| lemming | Windows Server 2003 | x86_64 | [ OK ] | OK | OK |
| Package: MeasurementError.cor |
| Version: 1.6.0 |
| Command: D:\biocbld\bbs-1.9\R\bin\R.exe CMD build MeasurementError.cor |
| RetCode: 0 |
| Time: 19.5 seconds |
| Status: OK |
| PackageFile: MeasurementError.cor_1.6.0.tar.gz |
* checking for file 'MeasurementError.cor/DESCRIPTION' ... OK
* preparing 'MeasurementError.cor':
* checking DESCRIPTION meta-information ... OK
* checking whether 'INDEX' is up-to-date ... NO
* use '--force' to overwrite the existing 'INDEX'
* installing the package to re-build vignettes
installing R.css in D:/biocbld/bbs-1.9/tmpdir/Rinst464042153
---------- Making package MeasurementError.cor ------------
adding build stamp to DESCRIPTION
installing NAMESPACE file and metadata
installing R files
installing inst files
installing man source files
installing indices
installing help
>>> Building/Updating help pages for package 'MeasurementError.cor'
Formats: text html latex example chm
cor.me.matrix text html latex example chm
cor.me.vector text html latex example chm
Microsoft HTML Help Compiler 4.74.8702
Compiling d:\biocbld\bbs-1.9\meat\MeasurementError.cor\chm\MeasurementError.cor.chm
Compile time: 0 minutes, 0 seconds
3 Topics
4 Local links
0 Internet links
1 Graphic
Created d:\biocbld\bbs-1.9\meat\MeasurementError.cor\chm\MeasurementError.cor.chm, 18,293 bytes
Compression increased file by 6,763 bytes.
adding MD5 sums
* DONE (MeasurementError.cor)
* creating vignettes ... OK
* removing junk files
* excluding invalid files from 'MeasurementError.cor'
Subdirectory 'R' contains invalid file names:
zzz
Subdirectory 'man' contains invalid file names:
CalcInitials cor.me fcn fcn.uncons gradient gradient.uncons
TransformCon2Uncon TransformUncon2Con
* checking for LF line-endings in source files
* checking for empty or unneeded directories
* building 'MeasurementError.cor_1.6.0.tar.gz'