Back to the "Multiple platform build/check report"
| Package 116/188 | Hostname | OS | Arch | BUILD | CHECK | BUILD BIN |
MVCClass1.8.0Elizabeth WhalenLast Changed Date: 2006-10-03 12:16:03 -0700 Last Changed Rev: 20373 | lamb1 | Linux (SUSE 10.1) | x86_64 | OK | OK | |
| wellington | Linux (SUSE 9.2) | i686 | OK | OK | ||
| churchill | Solaris 2.9 | sparc | OK | OK | ||
| lemming | Windows Server 2003 | x86_64 | [ OK ] | OK | OK |
| Package: MVCClass |
| Version: 1.8.0 |
| Command: D:\biocbld\bbs-1.9\R\bin\R.exe CMD build MVCClass |
| RetCode: 0 |
| Time: 16.5 seconds |
| Status: OK |
| PackageFile: MVCClass_1.8.0.tar.gz |
* checking for file 'MVCClass/DESCRIPTION' ... OK
* preparing 'MVCClass':
* checking DESCRIPTION meta-information ... OK
* installing the package to re-build vignettes
installing R.css in D:/biocbld/bbs-1.9/tmpdir/Rinst579667541
---------- Making package MVCClass ------------
adding build stamp to DESCRIPTION
installing NAMESPACE file and metadata
installing R files
installing inst files
installing man source files
installing indices
installing help
>>> Building/Updating help pages for package 'MVCClass'
Formats: text html latex example chm
MVC-class text html latex example chm
dfModel-class text html latex example chm
gAddChildMessage-class text html latex example chm
gAddDataMessage-class text html latex example chm
gAddMessage-class text html latex example chm
gAddViewMessage-class text html latex example chm
gAskAncestorMessage-class text html latex example chm
gEventFun-class text html latex example chm
gMessage-class text html latex example chm
gModel-class text html latex example chm
gModifyMessage-class text html latex example chm
gSendChildMessage-class text html latex example chm
gSendParentMessage-class text html latex example chm
gUpdateDataMessage-class text html latex example chm
gUpdateMessage-class text html latex example chm
gUpdateViewMessage-class text html latex example chm
genView-class text html latex example chm
linkedModelMVC-class text html latex example chm
plotView-class text html latex example chm
qqPlotView-class text html latex example chm
sPlotView-class text html latex example chm
singleModelMVC-class text html latex example chm
spreadView-class text html latex example chm
Microsoft HTML Help Compiler 4.74.8702
Compiling d:\biocbld\bbs-1.9\meat\MVCClass\chm\MVCClass.chm
Compile time: 0 minutes, 0 seconds
24 Topics
245 Local links
0 Internet links
1 Graphic
Created d:\biocbld\bbs-1.9\meat\MVCClass\chm\MVCClass.chm, 39,993 bytes
Compression decreased file by 89,621 bytes.
adding MD5 sums
* DONE (MVCClass)
* creating vignettes ... OK
* removing junk files
* checking for LF line-endings in source files
* checking for empty or unneeded directories
* building 'MVCClass_1.8.0.tar.gz'