Back to the "Multiple platform build/check report"
| Package 66/188 | Hostname | OS | Arch | BUILD | CHECK | BUILD BIN | 
| GeneTraffic1.6.0Daniel IordanLast Changed Date: 2006-10-03 12:16:03 -0700 Last Changed Rev: 20373 | lamb1 | Linux (SUSE 10.1) | x86_64 | OK | OK | |
| wellington | Linux (SUSE 9.2) | i686 | OK | OK | ||
| churchill | Solaris 2.9 | sparc | OK | OK | ||
| lemming | Windows Server 2003 | x86_64 | OK | OK | [ OK ] | 
| Package: GeneTraffic | 
| Version: 1.6.0 | 
| Command: D:\biocbld\bbs-1.9\R\bin\R.exe CMD INSTALL --build --library=GeneTraffic.instdir GeneTraffic_1.6.0.tar.gz | 
| RetCode: 0 | 
| Time: 10.0 seconds | 
| Status: OK | 
| PackageFile: GeneTraffic_1.6.0.zip | 
installing R.css in D:/biocbld/bbs-1.9/meat/GeneTraffic.instdir
Using auto-selected zip options ''
---------- Making package GeneTraffic ------------
  adding build stamp to DESCRIPTION
  installing R files
  save image
Loading required package: Biobase
Loading required package: tools
Welcome to Bioconductor
    Vignettes contain introductory material. To view, type
    'openVignette()' or start with 'help(Biobase)'. For details
    on reading vignettes, see the openVignette help page.
Loading required package: affy
Loading required package: affyio
Loading required package: marray
Loading required package: limma
Loading required package: SSOAP
Loading required package: XML
Loading required package: RCurl
Loading required package: digest
[1] "GTServer"
  installing inst files
  installing man source files
  installing indices
  installing help
 >>> Building/Updating help pages for package 'GeneTraffic'
     Formats: text html latex example chm 
  GTGetProjectList                  text    html    latex   example chm
  GTGetProjectSummary               text    html    latex   example chm
  GTLoadExpression                  text    html    latex   example chm
  GTLogin                           text    html    latex   example chm
  GTLogout                          text    html    latex   example chm
  GTServer-class                    text    html    latex   example chm
  GTServer                          text    html    latex   example chm
Microsoft HTML Help Compiler 4.74.8702
Compiling d:\biocbld\bbs-1.9\meat\R.INSTALL\GeneTraffic\chm\GeneTraffic.chm
Compile time: 0 minutes, 0 seconds
8	Topics
14	Local links
0	Internet links
1	Graphic
Created d:\biocbld\bbs-1.9\meat\R.INSTALL\GeneTraffic\chm\GeneTraffic.chm, 18,952 bytes
Compression increased file by 104 bytes.
  adding MD5 sums
packaged installation of package 'GeneTraffic' as GeneTraffic_1.6.0.zip
* DONE (GeneTraffic)