Back to the "Multiple platform build/check report"
| Package 61/188 | Hostname | OS | Arch | BUILD | CHECK | BUILD BIN | 
| GeneMeta1.6.0Biocore TeamLast Changed Date: 2006-10-03 12:16:03 -0700 Last Changed Rev: 20373 | lamb1 | Linux (SUSE 10.1) | x86_64 | OK | OK | |
| wellington | Linux (SUSE 9.2) | i686 | OK | OK | ||
| churchill | Solaris 2.9 | sparc | OK | OK | ||
| lemming | Windows Server 2003 | x86_64 | [ OK ] | OK | OK | 
| Package: GeneMeta | 
| Version: 1.6.0 | 
| Command: D:\biocbld\bbs-1.9\R\bin\R.exe CMD build GeneMeta | 
| RetCode: 0 | 
| Time: 98.9 seconds | 
| Status: OK | 
| PackageFile: GeneMeta_1.6.0.tar.gz | 
* checking for file 'GeneMeta/DESCRIPTION' ... OK
* preparing 'GeneMeta':
* checking DESCRIPTION meta-information ... OK
* installing the package to re-build vignettes
installing R.css in D:/biocbld/bbs-1.9/tmpdir/Rinst72097354
---------- Making package GeneMeta ------------
  adding build stamp to DESCRIPTION
  installing NAMESPACE file and metadata
  installing R files
  save image
Loading required package: Biobase
Loading required package: tools
Welcome to Bioconductor
    Vignettes contain introductory material. To view, type
    'openVignette()' or start with 'help(Biobase)'. For details
    on reading vignettes, see the openVignette help page.
Loading required package: genefilter
Loading required package: survival
Loading required package: splines
  installing inst files
  installing data files
  installing man source files
  installing indices
  not zipping data
  installing help
 >>> Building/Updating help pages for package 'GeneMeta'
     Formats: text html latex example chm 
  CountPlot                         text    html    latex   example chm
  Nevins                            text    html    latex   example chm
  dstar                             text    html    latex   example chm
  f.Q                               text    html    latex   example chm
  tau                               text    html    latex   example chm
  zscore                            text    html    latex   example chm
Microsoft HTML Help Compiler 4.74.8702
Compiling d:\biocbld\bbs-1.9\meat\GeneMeta\chm\GeneMeta.chm
Compile time: 0 minutes, 0 seconds
7	Topics
27	Local links
1	Internet link
1	Graphic
Created d:\biocbld\bbs-1.9\meat\GeneMeta\chm\GeneMeta.chm, 25,179 bytes
Compression decreased file by 2,370 bytes.
  adding MD5 sums
* DONE (GeneMeta)
* creating vignettes ... OK
* removing junk files
* checking for LF line-endings in source files
* checking for empty or unneeded directories
* building 'GeneMeta_1.6.0.tar.gz'