Back to the "Multiple platform build/check report"
| Package 74/188 | Hostname | OS | Arch | BUILD | CHECK | BUILD BIN | 
| GOstats2.0.4S. FalconLast Changed Date: 2006-11-27 10:54:18 -0800 Last Changed Rev: 21292 | lamb1 | Linux (SUSE 10.1) | x86_64 | OK | WARNINGS | |
| wellington | Linux (SUSE 9.2) | i686 | OK | WARNINGS | ||
| churchill | Solaris 2.9 | sparc | OK | WARNINGS | ||
| lemming | Windows Server 2003 | x86_64 | OK | WARNINGS | [ OK ] | 
| Package: GOstats | 
| Version: 2.0.4 | 
| Command: D:\biocbld\bbs-1.9\R\bin\R.exe CMD INSTALL --build --library=GOstats.instdir GOstats_2.0.4.tar.gz | 
| RetCode: 0 | 
| Time: 14.0 seconds | 
| Status: OK | 
| PackageFile: GOstats_2.0.4.zip | 
installing R.css in D:/biocbld/bbs-1.9/meat/GOstats.instdir
Using auto-selected zip options 'GOstats-ZIPDATA=zip'
---------- Making package GOstats ------------
  adding build stamp to DESCRIPTION
  installing NAMESPACE file and metadata
  installing R files
  installing inst files
  installing data files
  installing man source files
  installing indices
  zipping data
  installing help
 >>> Building/Updating help pages for package 'GOstats'
     Formats: text html latex example chm 
  GOHyperG                          text    html    latex   example chm
  GOHyperGResult-class              text    html    latex           chm
  GOLeaves                          text    html    latex   example chm
  GOstats-defunct                   text    html    latex           chm
  GOstats-package                   text    html    latex           chm
  Ndists                            text    html    latex   example chm
  compCorrGraph                     text    html    latex   example chm
  compGdist                         text    html    latex   example chm
  hyperG2Affy                       text    html    latex   example chm
  hyperGTest                        text    html    latex           chm
  hyperGtable                       text    html    latex   example chm
  idx2dimnames                      text    html    latex   example chm
  makeGOGraph                       text    html    latex   example chm
  notConn                           text    html    latex   example chm
  oneGOGraph                        text    html    latex   example chm
  probeSetSummary                   text    html    latex           chm
  shortestPath                      text    html    latex   example chm
  simLL                             text    html    latex   example chm
  triadCensus                       text    html    latex   example chm
Microsoft HTML Help Compiler 4.74.8702
Compiling d:\biocbld\bbs-1.9\meat\R.INSTALL\GOstats\chm\GOstats.chm
Compile time: 0 minutes, 0 seconds
20	Topics
77	Local links
0	Internet links
1	Graphic
Created d:\biocbld\bbs-1.9\meat\R.INSTALL\GOstats\chm\GOstats.chm, 47,404 bytes
Compression decreased file by 35,697 bytes.
  preparing package GOstats for lazy loading
Loading required package: graph
Loading required package: Biobase
Loading required package: tools
Welcome to Bioconductor
    Vignettes contain introductory material. To view, type
    'openVignette()' or start with 'help(Biobase)'. For details
    on reading vignettes, see the openVignette help page.
Loading required package: GO
Loading required package: annotate
Loading required package: RBGL
Loading required package: Category
Loading required package: KEGG
Loading required package: genefilter
Loading required package: survival
Loading required package: splines
  adding MD5 sums
packaged installation of package 'GOstats' as GOstats_2.0.4.zip
* DONE (GOstats)