Back to the "Multiple platform build/check report"
| Package 52/188 | Hostname | OS | Arch | BUILD | CHECK | BUILD BIN | 
| EBImage1.6.1Oleg SklyarLast Changed Date: 2007-01-08 04:24:40 -0800 Last Changed Rev: 21860 | lamb1 | Linux (SUSE 10.1) | x86_64 | ERROR | skipped | |
| wellington | Linux (SUSE 9.2) | i686 | OK | OK | ||
| churchill | Solaris 2.9 | sparc | OK | OK | ||
| lemming | Windows Server 2003 | x86_64 | [ ERROR ] | skipped | skipped | 
| Package: EBImage | 
| Version: 1.6.1 | 
| Command: D:\biocbld\bbs-1.9\R\bin\R.exe CMD build EBImage | 
| RetCode: 1 | 
| Time: 2.5 seconds | 
| Status: ERROR | 
| PackageFile: None | 
* checking for file 'EBImage/DESCRIPTION' ... OK
* preparing 'EBImage':
* checking DESCRIPTION meta-information ... OK
* cleaning src
* installing the package to re-build vignettes
installing R.css in D:/biocbld/bbs-1.9/tmpdir/Rinst462097497
---------- Making package EBImage ------------
   **********************************************
   WARNING: this package has a configure script
         It probably needs manual configuration
   **********************************************
  adding build stamp to DESCRIPTION
  installing NAMESPACE file and metadata
  making DLL ...
making alg_watershed.d from alg_watershed.cpp
In file included from d:/usr/MinGW/bin/../lib/gcc/mingw32/3.4.5/../../../../include/c++/3.4.5/bits/locale_facets.h:1533,
                 from d:/usr/MinGW/bin/../lib/gcc/mingw32/3.4.5/../../../../include/c++/3.4.5/bits/basic_ios.h:44,
                 from d:/usr/MinGW/bin/../lib/gcc/mingw32/3.4.5/../../../../include/c++/3.4.5/ios:51,
                 from d:/usr/MinGW/bin/../lib/gcc/mingw32/3.4.5/../../../../include/c++/3.4.5/ostream:45,
                 from d:/usr/MinGW/bin/../lib/gcc/mingw32/3.4.5/../../../../include/c++/3.4.5/iostream:45,
                 from alg_watershed.cpp:13:
d:/usr/MinGW/bin/../lib/gcc/mingw32/3.4.5/../../../../include/c++/3.4.5/bits/codecvt.h:219:45: macro "length" passed 4 arguments, but takes just 1
make[3]: *** [alg_watershed.d] Error 1
make[2]: *** [srcDynlib] Error 2
make[1]: *** [all] Error 2
make: *** [pkg-EBImage] Error 2
*** Installation of EBImage failed ***
Removing 'D:/biocbld/bbs-1.9/tmpdir/Rinst462097497/EBImage'
 ERROR
Installation failed.
Removing 'D:/biocbld/bbs-1.9/tmpdir/Rinst462097497'