Back to the "Multiple platform build/check report"
| Package 41/188 | Hostname | OS | Arch | BUILD | CHECK | BUILD BIN | 
| CoCiteStats1.6.0R. GentlemanLast Changed Date: 2006-10-03 12:16:03 -0700 Last Changed Rev: 20373 | lamb1 | Linux (SUSE 10.1) | x86_64 | OK | OK | |
| wellington | Linux (SUSE 9.2) | i686 | OK | OK | ||
| churchill | Solaris 2.9 | sparc | OK | OK | ||
| lemming | Windows Server 2003 | x86_64 | OK | OK | [ OK ] | 
| Package: CoCiteStats | 
| Version: 1.6.0 | 
| Command: D:\biocbld\bbs-1.9\R\bin\R.exe CMD INSTALL --build --library=CoCiteStats.instdir CoCiteStats_1.6.0.tar.gz | 
| RetCode: 0 | 
| Time: 7.0 seconds | 
| Status: OK | 
| PackageFile: CoCiteStats_1.6.0.zip | 
installing R.css in D:/biocbld/bbs-1.9/meat/CoCiteStats.instdir
Using auto-selected zip options ''
---------- Making package CoCiteStats ------------
  adding build stamp to DESCRIPTION
  installing NAMESPACE file and metadata
  installing R files
  installing man source files
  installing indices
  installing help
 >>> Building/Updating help pages for package 'CoCiteStats'
     Formats: text html latex example chm 
  actorAdjTable                     text    html    latex   example chm
  gene.gene.statistic               text    html    latex   example chm
  gene.geneslist.sig                text    html    latex   example chm
  gene.geneslist.statistic          text    html    latex   example chm
  paperLen                          text    html    latex   example chm
  twTStats                          text    html    latex   example chm
  twowayTable                       text    html    latex   example chm
Microsoft HTML Help Compiler 4.74.8702
Compiling d:\biocbld\bbs-1.9\meat\R.INSTALL\CoCiteStats\chm\CoCiteStats.chm
Compile time: 0 minutes, 0 seconds
8	Topics
28	Local links
0	Internet links
1	Graphic
Created d:\biocbld\bbs-1.9\meat\R.INSTALL\CoCiteStats\chm\CoCiteStats.chm, 22,318 bytes
Compression decreased file by 1,330 bytes.
  adding MD5 sums
packaged installation of package 'CoCiteStats' as CoCiteStats_1.6.0.zip
* DONE (CoCiteStats)