Back to the "Multiple platform build/check report"
| Package 32/188 | Hostname | OS | Arch | BUILD | CHECK | BUILD BIN | 
| BioMVCClass1.2.0Elizabeth WhalenLast Changed Date: 2006-10-03 12:16:03 -0700 Last Changed Rev: 20373 | lamb1 | Linux (SUSE 10.1) | x86_64 | OK | OK | |
| wellington | Linux (SUSE 9.2) | i686 | OK | OK | ||
| churchill | Solaris 2.9 | sparc | OK | OK | ||
| lemming | Windows Server 2003 | x86_64 | OK | OK | [ OK ] | 
| Package: BioMVCClass | 
| Version: 1.2.0 | 
| Command: D:\biocbld\bbs-1.9\R\bin\R.exe CMD INSTALL --build --library=BioMVCClass.instdir BioMVCClass_1.2.0.tar.gz | 
| RetCode: 0 | 
| Time: 7.0 seconds | 
| Status: OK | 
| PackageFile: BioMVCClass_1.2.0.zip | 
installing R.css in D:/biocbld/bbs-1.9/meat/BioMVCClass.instdir
Using auto-selected zip options ''
---------- Making package BioMVCClass ------------
  adding build stamp to DESCRIPTION
  installing NAMESPACE file and metadata
  installing R files
  installing inst files
  installing man source files
  installing indices
  installing help
 >>> Building/Updating help pages for package 'BioMVCClass'
     Formats: text html latex example chm 
  GSE-class                         text    html    latex   example chm
  exprModel-class                   text    html    latex   example chm
  graphModel-class                  text    html    latex   example chm
  graphView-class                   text    html    latex   example chm
  gseModel-class                    text    html    latex   example chm
  heatmapView-class                 text    html    latex   example chm
Microsoft HTML Help Compiler 4.74.8702
Compiling d:\biocbld\bbs-1.9\meat\R.INSTALL\BioMVCClass\chm\BioMVCClass.chm
Compile time: 0 minutes, 0 seconds
7	Topics
48	Local links
0	Internet links
1	Graphic
Created d:\biocbld\bbs-1.9\meat\R.INSTALL\BioMVCClass\chm\BioMVCClass.chm, 21,442 bytes
Compression decreased file by 12,222 bytes.
  adding MD5 sums
packaged installation of package 'BioMVCClass' as BioMVCClass_1.2.0.zip
* DONE (BioMVCClass)