| 1.2.0Enrico Carlon | Linux (SUSE 9.2) | x86_64 | OK | OK |  | 
| Linux (SUSE 9.2) | i686 | [ OK ] | OK |  | 
| Solaris 2.9 | sparc | OK | OK |  | 
| Windows Server 2003 | x86_64 | OK | OK | OK | 
* checking for file 'spikeLI/DESCRIPTION' ... OK
* preparing 'spikeLI':
* checking DESCRIPTION meta-information ... OK
* installing the package to re-build vignettes
* Installing *source* package 'spikeLI' ...
** R
** data
** demo
** inst
** help
 >>> Building/Updating help pages for package 'spikeLI'
     Formats: text html latex example 
  IvsDG                             text    html    latex   example
  Ivsc                              text    html    latex   example
  SPIKE_IN                          text    html    latex   example
  SPIKE_IN95                        text    html    latex   example
  SPIKE_INA                         text    html    latex   example
  SPIKE_INB                         text    html    latex   example
  SPIKE_INH                         text    html    latex   example
  collapse                          text    html    latex   example
  conc133                           text    html    latex   example
  conc95                            text    html    latex   example
  hgu                               text    html    latex   example
  spikeLI.package                   text    html    latex
** building package indices ...
* DONE (spikeLI)
* creating vignettes ... OK
* removing junk files
* checking for LF line-endings in source files
* checking for empty or unneeded directories
* building 'spikeLI_1.2.0.tar.gz'